BEGIN:VCALENDAR
VERSION:2.0
PRODID:-//ortenaukultur.de//NONSGML kigkonsult.se iCalcreator 2.41.92//
CALSCALE:GREGORIAN
METHOD:PUBLISH
UID:66663961-6163-4238-b331-646436336435
X-WR-TIMEZONE:Europe/Berlin
X-LIC-LOCATION:Europe/Berlin
BEGIN:VEVENT
UID:591611-kulturportal@ortenaukultur.de
DTSTAMP:20260422T063201Z
DESCRIPTION:Kurzbeschreibung:\n Ein weihnachtliches Konzert für Kinder ab 3
  Jahren\, das die Wartezeit auf die Festtage verkürzt.\n Ort:\n Reithalle 
 im Kulturforum\n Moltkestraße 31\, 77654 Offenburg\n Veranstalter:\n Kultu
 rbüro Offenburg\n Termin:\n Beginn: 13.12.2026\, 15:00 Uhr\n Ende: 13.12.2
 026\n Tickets:\n Achat de billets\n https://ortenaukultur.reservix.de/p/re
 servix/event/2516402\n 1. Kategorie:\n jusqu'à 14\,20 € + Réduction\n *Tou
 te taxe comprise\n \n Link:\n Page détaillée
DTSTART;TZID=Europe/Berlin:20261213T150000
DTEND;TZID=Europe/Berlin:20261213T180000
LOCATION:Reithalle im Kulturforum\, Moltkestraße 31\, 77654 Offenburg
SUMMARY:Kinderkonzert mit Unikat\, Reithalle im Kulturforum
X-ALT-DESC;FMTTYPE=text/html:<strong>Kurzbeschreibung:</strong><br/>Ein wei
 hnachtliches Konzert für Kinder ab 3 Jahren\, das die Wartezeit auf die Fe
 sttage verkürzt. \n<br /><strong>Ort:</strong><br/>Reithalle im Kulturforu
 m<br/>Moltkestraße 31\, 77654 Offenburg<br /><strong>Veranstalter:</strong
 ><br/>Kulturbüro Offenburg<br /><strong>Termin:</strong><br/>Beginn: 13.12
 .2026\, 15:00 Uhr<br/>Ende: 13.12.2026<br /><strong>Tickets: </strong><br/
 ><a rel='asdf' href='https://ortenaukultur.de/fr/evenements/enfants-jeunes
 /detail/billets/id/591611-kinderkonzert-mit-unikat/?follow=https%253A%252F
 %252Fortenaukultur.reservix.de%252Fp%252Freservix%252Fevent%252F2516402' t
 arget='_blank' title='' id='ticketlink'>Achat de billets</a><br/>https://o
 rtenaukultur.reservix.de/p/reservix/event/2516402<br/><b>1. Kategorie: </b
 ><br />jusqu&#039\;à 14\,20 &euro\;&nbsp\; + Réduction<br />*Toute taxe co
 mprise<br /><br /><strong>Link:</strong><br/><a href='https://ortenaukultu
 r.de/fr/evenements/detail/evenement/id/591611-kinderkonzert-mit-unikat/?vt
 =1'>Page détaillée </a>
END:VEVENT
END:VCALENDAR
