BEGIN:VCALENDAR
VERSION:2.0
PRODID:-//ortenaukultur.de//NONSGML kigkonsult.se iCalcreator 2.41.92//
CALSCALE:GREGORIAN
METHOD:PUBLISH
UID:62613134-3262-4763-b630-333862666434
X-WR-TIMEZONE:Europe/Berlin
X-LIC-LOCATION:Europe/Berlin
BEGIN:VEVENT
UID:592299-kulturportal@ortenaukultur.de
DTSTAMP:20260422T013326Z
DESCRIPTION:Kurzbeschreibung:\n Finissage der Ausstellung fruchtig! Gespräc
 h mit der Sammlungskuratorin.\n Ort:\n Städtische Galerie Offenburg\n Aman
 d-Goegg-Str.2\, Kulturforum\, 77654 Offenburg\n Veranstalter:\n Städtische
  Galerie Offenburg\n Termin:\n Beginn: 26.04.2026\, 11:00 Uhr\n Ende: 26.0
 4.2026\n Link:\n Page détaillée
DTSTART;TZID=Europe/Berlin:20260426T110000
DTEND;TZID=Europe/Berlin:20260426T140000
LOCATION:Städtische Galerie Offenburg\, Amand-Goegg-Str.2\, Kulturforum\, 7
 7654 Offenburg
SUMMARY:Finissage Fruchtig!\, Städtische Galerie Offenburg
X-ALT-DESC;FMTTYPE=text/html:<strong>Kurzbeschreibung:</strong><br/>Finissa
 ge der Ausstellung fruchtig!\nGespräch mit der Sammlungskuratorin.\n\n<br 
 /><strong>Ort:</strong><br/>Städtische Galerie Offenburg<br/>Amand-Goegg-S
 tr.2\, Kulturforum\, 77654 Offenburg<br /><strong>Veranstalter:</strong><b
 r/>Städtische Galerie Offenburg<br /><strong>Termin:</strong><br/>Beginn: 
 26.04.2026\, 11:00 Uhr<br/>Ende: 26.04.2026<br /><strong>Link:</strong><br
 /><a href='https://ortenaukultur.de/fr/evenements/detail/evenement/id/5922
 99-finissage-fruchtig/?vt=1'>Page détaillée </a>
END:VEVENT
END:VCALENDAR
