BEGIN:VCALENDAR
VERSION:2.0
PRODID:-//ortenaukultur.de//NONSGML kigkonsult.se iCalcreator 2.41.92//
CALSCALE:GREGORIAN
METHOD:PUBLISH
UID:64626632-3432-4939-a232-626166306563
X-WR-TIMEZONE:Europe/Berlin
X-LIC-LOCATION:Europe/Berlin
BEGIN:VEVENT
UID:594299-kulturportal@ortenaukultur.de
DTSTAMP:20260421T234235Z
DESCRIPTION:Kurzbeschreibung:\n Künstlerisches Gestalten für die ganze Fami
 lie (ab 6 Jahre) in der Kunstschule Offenburg\n Ort:\n Atelier Kehl im Kul
 turhaus\, Am Läger 12\, 77694 Kehl\n Weingartenstr. 34b\, 77654 Offenburg
 \n Veranstalter:\n KUNSTSCHULE Offenburg\n Termin:\n Beginn: 10.08.2026\, 
 09:30 Uhr\n Ende: 10.08.2026\n Link:\n Page détaillée
DTSTART;TZID=Europe/Berlin:20260810T093000
DTEND;TZID=Europe/Berlin:20260810T123000
LOCATION:Atelier Kehl im Kulturhaus\, Am Läger 12\, 77694 Kehl\, Weingarten
 str. 34b\, 77654 Offenburg
SUMMARY:Das Malspiel im Malort für jedes Alter\, KUNSTSCHULE Offenburg
X-ALT-DESC;FMTTYPE=text/html:<strong>Kurzbeschreibung:</strong><br/>Künstle
 risches Gestalten für die ganze Familie (ab 6 Jahre) in der Kunstschule Of
 fenburg<br /><strong>Ort:</strong><br/>Atelier Kehl im Kulturhaus\, Am Läg
 er 12\, 77694 Kehl<br/>Weingartenstr. 34b\, 77654 Offenburg<br /><strong>V
 eranstalter:</strong><br/>KUNSTSCHULE Offenburg<br /><strong>Termin:</stro
 ng><br/>Beginn: 10.08.2026\, 09:30 Uhr<br/>Ende: 10.08.2026<br /><strong>L
 ink:</strong><br/><a href='https://ortenaukultur.de/fr/evenements/detail/e
 venement/id/594299-das-malspiel-im-malort-fuer-jedes-alter/?vt=1'>Page dét
 aillée </a>
END:VEVENT
END:VCALENDAR
