BEGIN:VCALENDAR
VERSION:2.0
PRODID:-//ortenaukultur.de//NONSGML kigkonsult.se iCalcreator 2.41.92//
CALSCALE:GREGORIAN
METHOD:PUBLISH
UID:65633130-3631-4966-a366-383030636462
X-WR-TIMEZONE:Europe/Berlin
X-LIC-LOCATION:Europe/Berlin
BEGIN:VEVENT
UID:453128-kulturportal@ortenaukultur.de
DTSTAMP:20260423T054548Z
DESCRIPTION:Kurzbeschreibung:\n Traditionelles Maifest des Musikverein Unte
 rharmersbach beim Fürstenberger Hof\n Ort:\n Heimatmuseum Fürstenberger Ho
 f\n Steinrücken 5\, 77736 Zell am Harmersbach\n Veranstalter:\n Musikverei
 n Unterharmersbach e. V.\n Termin:\n Beginn: 10.05.2026\n Ende: 10.05.2026
 \n Link:\n Page détaillée
DTSTART;VALUE=DATE:20260510
DTEND;VALUE=DATE:20260511
LOCATION:Heimatmuseum Fürstenberger Hof\, Steinrücken 5\, 77736 Zell am Har
 mersbach
SUMMARY:Maifest des Musikverein Unterharmersbach\, Heimatmuseum Fürstenberg
 er Hof
X-ALT-DESC;FMTTYPE=text/html:<strong>Kurzbeschreibung:</strong><br/>Traditi
 onelles Maifest des Musikverein Unterharmersbach beim Fürstenberger Hof<br
  /><strong>Ort:</strong><br/>Heimatmuseum Fürstenberger Hof<br/>Steinrücke
 n 5\, 77736 Zell am Harmersbach<br /><strong>Veranstalter:</strong><br/>Mu
 sikverein Unterharmersbach e. V.<br /><strong>Termin:</strong><br/>Beginn:
  10.05.2026<br/>Ende: 10.05.2026<br /><strong>Link:</strong><br/><a href='
 https://ortenaukultur.de/fr/evenements/detail/evenement/id/453128-maifest-
 des-musikverein-unterharmersbach/?vt=1'>Page détaillée </a>
END:VEVENT
END:VCALENDAR
