BEGIN:VCALENDAR
VERSION:2.0
PRODID:-//ortenaukultur.de//NONSGML kigkonsult.se iCalcreator 2.41.92//
CALSCALE:GREGORIAN
METHOD:PUBLISH
UID:35373032-3665-4932-b634-633964323538
X-WR-TIMEZONE:Europe/Berlin
X-LIC-LOCATION:Europe/Berlin
BEGIN:VEVENT
UID:567015-kulturportal@ortenaukultur.de
DTSTAMP:20260421T230322Z
DESCRIPTION:Kurzbeschreibung:\n Genussvoller Spaziergang durch die süße Ges
 chichte der Stadt! Genießen Sie zwei köstliche Stunden Lahr!\n Ort:\n Eing
 ang Stadtmuseum Lahr\, Kreuzstraße 6\, Lahr\n Veranstalter:\n Stadt Lahr S
 tadtmarketing\n Termin:\n Beginn: 21.05.2026\, 16:00 Uhr\n Ende: 21.05.202
 6\n Tickets:\n \n https://erlebe.lahr.de/oeffentliche-fuehrungen-buchen.27
 4465.htm#/experience/FIT00020072495332239\n 28.- € pro Person\n Leistung:
 \n Eine herzhafte Quiche sowie ein Glas Winzersekt\, ein Stück Schwarzwäld
 er Kirschtorte\, ein Heißgetränk und die Führung.\n \n Link:\n Page détail
 lée
DTSTART;TZID=Europe/Berlin:20260521T160000
DTEND;TZID=Europe/Berlin:20260521T190000
LOCATION:Eingang Stadtmuseum Lahr\, Kreuzstraße 6\, Lahr
SUMMARY:Kaffeehaus Tour\, Eingang Stadtmuseum Lahr\, Kreuzstraße 6
X-ALT-DESC;FMTTYPE=text/html:<strong>Kurzbeschreibung:</strong><br/>Genussv
 oller Spaziergang durch die süße Geschichte der Stadt! Genießen Sie zwei k
 östliche Stunden Lahr! <br /><strong>Ort:</strong><br/>Eingang Stadtmuseum
  Lahr\, Kreuzstraße 6\, Lahr<br /><strong>Veranstalter:</strong><br/>Stadt
  Lahr Stadtmarketing<br /><strong>Termin:</strong><br/>Beginn: 21.05.2026\
 , 16:00 Uhr<br/>Ende: 21.05.2026<br /><strong>Tickets: </strong><br/><a  c
 lass='wco_cb_subtitle_link'  id='ticketlink'  href='https://erlebe.lahr.de
 /oeffentliche-fuehrungen-buchen.274465.htm#/experience/FIT0002007249533223
 9' target='_blank' title='Öffnet externen Link in einem neuen Fenster'></a
 ><br/>https://erlebe.lahr.de/oeffentliche-fuehrungen-buchen.274465.htm#/ex
 perience/FIT00020072495332239<br/>28.- € pro Person<br />\nLeistung: <br /
 >\nEine herzhafte Quiche sowie ein Glas Winzersekt\, ein Stück Schwarzwäld
 er Kirschtorte\, ein Heißgetränk und die Führung.<br />\n<br /><strong>Lin
 k:</strong><br/><a href='https://ortenaukultur.de/fr/evenements/detail/eve
 nement/id/567015-kaffeehaus-tour/?vt=1'>Page détaillée </a>
END:VEVENT
END:VCALENDAR
