BEGIN:VCALENDAR
VERSION:2.0
PRODID:-//ortenaukultur.de//NONSGML kigkonsult.se iCalcreator 2.41.92//
CALSCALE:GREGORIAN
METHOD:PUBLISH
UID:63396363-3965-4161-a366-633863376136
X-WR-TIMEZONE:Europe/Berlin
X-LIC-LOCATION:Europe/Berlin
BEGIN:VEVENT
UID:567019-kulturportal@ortenaukultur.de
DTSTAMP:20260422T040931Z
DESCRIPTION:Kurzbeschreibung:\n Fachkundige Stadtführer gehen mit Ihnen auf
  eine themenspezifische Entdeckungsreise durch das einstige Hinter- und Ob
 erdorf Burgheim.\n Ort:\n Treffpunkt: Burgheimer Kirche\, Schutterlindenbe
 rgstr. 10\n Burgheimerstraße\, 77933 Lahr\n Veranstalter:\n Stadt Lahr\n T
 ermin:\n Beginn: 18.07.2026\, 15:00 Uhr\n Ende: 18.07.2026\n Tickets:\n ka
 ufen Sie Ihre Tickets im KulTourBüro Lahr\n https://erlebe.lahr.de/oeffent
 liche-fuehrungen-buchen.274465.htm#/experience/FIT00020072495186328\n 5\,0
 0€ pro Person\n 60\,00€ Gruppen / max. 25 Personen\n Ganzjährig individuel
 l buchbar\n Link:\n Page détaillée
DTSTART;TZID=Europe/Berlin:20260718T150000
DTEND;TZID=Europe/Berlin:20260718T180000
LOCATION:Treffpunkt: Burgheimer Kirche\, Schutterlindenbergstr. 10\, Burghe
 imerstraße\, 77933 Lahr
SUMMARY:Stadtführung - Auf Burgheim`s grüner Höh: Vom Dorfidyll auf Lahrer 
 Höhen\, Burgheimer Kirche
X-ALT-DESC;FMTTYPE=text/html:<strong>Kurzbeschreibung:</strong><br/>Fachkun
 dige Stadtführer gehen mit Ihnen auf eine themenspezifische Entdeckungsrei
 se durch das einstige Hinter- und Oberdorf Burgheim. <br /><strong>Ort:</s
 trong><br/>Treffpunkt: Burgheimer Kirche\, Schutterlindenbergstr. 10<br/>B
 urgheimerstraße\, 77933 Lahr<br /><strong>Veranstalter:</strong><br/>Stadt
  Lahr<br /><strong>Termin:</strong><br/>Beginn: 18.07.2026\, 15:00 Uhr<br/
 >Ende: 18.07.2026<br /><strong>Tickets: </strong><br/><a  class='wco_cb_su
 btitle_link'  id='ticketlink'  href='https://erlebe.lahr.de/oeffentliche-f
 uehrungen-buchen.274465.htm#/experience/FIT00020072495186328' target='_bla
 nk' title='Öffnet externen Link in einem neuen Fenster'>kaufen Sie Ihre Ti
 ckets im KulTourBüro Lahr</a><br/>https://erlebe.lahr.de/oeffentliche-fueh
 rungen-buchen.274465.htm#/experience/FIT00020072495186328<br/>5\,00€ pro P
 erson<br />\n60\,00€ Gruppen / max. 25 Personen<br />\nGanzjährig individu
 ell buchbar<br /><strong>Link:</strong><br/><a href='https://ortenaukultur
 .de/fr/evenements/detail/evenement/id/567019-stadtfuehrung-auf-burgheim-s-
 gruener-hoeh-vom-dorfidyll-auf-lahrer-hoehen/?vt=1'>Page détaillée </a>
END:VEVENT
END:VCALENDAR
