BEGIN:VCALENDAR
VERSION:2.0
PRODID:-//ortenaukultur.de//NONSGML kigkonsult.se iCalcreator 2.41.92//
CALSCALE:GREGORIAN
METHOD:PUBLISH
UID:33623861-3865-4433-b831-376361313931
X-WR-TIMEZONE:Europe/Berlin
X-LIC-LOCATION:Europe/Berlin
BEGIN:VEVENT
UID:580206-kulturportal@ortenaukultur.de
DTSTAMP:20260422T192300Z
DESCRIPTION:Kurzbeschreibung:\n Die Vielfalt und kulturelle Bedeutung der D
 ialekte in Baden-Württemberg und im Elsass stehen im Mittelpunkt der erste
 n grenzüberschreitenden Mundartmesse\n Ort:\n Forum des Hans-Furler-Gymnas
 iums\n Butschbacherstraße 48b\, 77704 Oberkirch\n Veranstalter:\n Dachverb
 and der Dialekte Baden-Württemberg (DDDBW)\n Termin:\n Beginn: 26.06.2026
 \n Ende: 26.06.2026\n Link:\n Page détaillée
DTSTART;VALUE=DATE:20260626
DTEND;VALUE=DATE:20260627
LOCATION:Forum des Hans-Furler-Gymnasiums\, Butschbacherstraße 48b\, 77704 
 Oberkirch
SUMMARY:Mundartmesse DIALECTA\, Forum des Hans-Furler-Gymnasiums
X-ALT-DESC;FMTTYPE=text/html:<strong>Kurzbeschreibung:</strong><br/>Die Vie
 lfalt und kulturelle Bedeutung der Dialekte in Baden-Württemberg und im El
 sass stehen im Mittelpunkt der ersten grenzüberschreitenden Mundartmesse<b
 r /><strong>Ort:</strong><br/>Forum des Hans-Furler-Gymnasiums<br/>Butschb
 acherstraße 48b\, 77704 Oberkirch<br /><strong>Veranstalter:</strong><br/>
 Dachverband der Dialekte Baden-Württemberg (DDDBW)<br /><strong>Termin:</s
 trong><br/>Beginn: 26.06.2026<br/>Ende: 26.06.2026<br /><strong>Link:</str
 ong><br/><a href='https://ortenaukultur.de/fr/evenements/detail/evenement/
 id/580206-mundartmesse-dialecta/?vt=1'>Page détaillée </a>
END:VEVENT
END:VCALENDAR
