BEGIN:VCALENDAR
VERSION:2.0
PRODID:-//ortenaukultur.de//NONSGML kigkonsult.se iCalcreator 2.41.92//
CALSCALE:GREGORIAN
METHOD:PUBLISH
UID:38613436-3564-4736-b532-323539613863
X-WR-TIMEZONE:Europe/Berlin
X-LIC-LOCATION:Europe/Berlin
BEGIN:VEVENT
UID:584841-kulturportal@ortenaukultur.de
DTSTAMP:20260421T231621Z
DESCRIPTION:Kurzbeschreibung:\n Endlich ist es wieder soweit! Feiert mit un
 s das Leben und den Wein bei lässigen Housebeats von Dj Axel F.\n Ort:\n W
 eingut Weber\n Im Offental\, 77955 Ettenheim\n Veranstalter:\n Weingut Web
 er\n Termin:\n Beginn: 06.06.2026\, 17:00 Uhr\n Ende: 06.06.2026\n Link:\n
  Page détaillée
DTSTART;TZID=Europe/Berlin:20260606T170000
DTEND;TZID=Europe/Berlin:20260606T200000
LOCATION:Weingut Weber\, Im Offental\, 77955 Ettenheim
SUMMARY:Weissweinparty im Weingut Weber\, Weingut Weber
X-ALT-DESC;FMTTYPE=text/html:<strong>Kurzbeschreibung:</strong><br/>Endlich
  ist es wieder soweit!  Feiert mit uns das Leben und den Wein bei lässigen
  Housebeats von Dj Axel F.<br /><strong>Ort:</strong><br/>Weingut Weber<br
 />Im Offental\, 77955 Ettenheim<br /><strong>Veranstalter:</strong><br/>We
 ingut Weber<br /><strong>Termin:</strong><br/>Beginn: 06.06.2026\, 17:00 U
 hr<br/>Ende: 06.06.2026<br /><strong>Link:</strong><br/><a href='https://o
 rtenaukultur.de/fr/evenements/detail/evenement/id/584841-weissweinparty-im
 -weingut-weber/?vt=1'>Page détaillée </a>
END:VEVENT
END:VCALENDAR
