BEGIN:VCALENDAR
VERSION:2.0
PRODID:-//ortenaukultur.de//NONSGML kigkonsult.se iCalcreator 2.41.92//
CALSCALE:GREGORIAN
METHOD:PUBLISH
UID:62663137-6234-4733-b238-613364386564
X-WR-TIMEZONE:Europe/Berlin
X-LIC-LOCATION:Europe/Berlin
BEGIN:VEVENT
UID:590846-kulturportal@ortenaukultur.de
DTSTAMP:20260422T003523Z
DESCRIPTION:Kurzbeschreibung:\n 'Wie man sich bettet\, so liegt man' -Theme
 nspaziergang über den Lahrer Bergfriedhof\n Ort:\n Bergfriedhof Lahr\, Fri
 edhofstraße 45\n Burgheimerstraße\, 77933 Lahr\n Veranstalter:\n Stadt Lah
 r\n Termin:\n Beginn: 04.07.2026\, 11:00 Uhr\n Ende: 04.07.2026\n Tickets:
 \n \n https://erlebe.lahr.de/oeffentliche-fuehrungen-buchen.274465.htm#/ex
 perience/FIT00020072552623655\n Link:\n Page détaillée
DTSTART;TZID=Europe/Berlin:20260704T110000
DTEND;TZID=Europe/Berlin:20260704T140000
LOCATION:Bergfriedhof Lahr\, Friedhofstraße 45\, Burgheimerstraße\, 77933 L
 ahr
SUMMARY:Stadtführung - Der Lahrer Bergfriedhof\, Burgheimer Kirche
X-ALT-DESC;FMTTYPE=text/html:<strong>Kurzbeschreibung:</strong><br/>'Wie ma
 n sich bettet\, so liegt man' -Themenspaziergang über den Lahrer Bergfried
 hof<br /><strong>Ort:</strong><br/>Bergfriedhof Lahr\, Friedhofstraße 45<b
 r/>Burgheimerstraße\, 77933 Lahr<br /><strong>Veranstalter:</strong><br/>S
 tadt Lahr<br /><strong>Termin:</strong><br/>Beginn: 04.07.2026\, 11:00 Uhr
 <br/>Ende: 04.07.2026<br /><strong>Tickets: </strong><br/><a  class='wco_c
 b_subtitle_link'  id='ticketlink'  href='https://erlebe.lahr.de/oeffentlic
 he-fuehrungen-buchen.274465.htm#/experience/FIT00020072552623655' target='
 _blank' title='Öffnet externen Link in einem neuen Fenster'></a><br/>https
 ://erlebe.lahr.de/oeffentliche-fuehrungen-buchen.274465.htm#/experience/FI
 T00020072552623655<br /><strong>Link:</strong><br/><a href='https://ortena
 ukultur.de/fr/evenements/detail/evenement/id/590846-stadtfuehrung-der-lahr
 er-bergfriedhof/?vt=1'>Page détaillée </a>
END:VEVENT
END:VCALENDAR
