BEGIN:VCALENDAR
VERSION:2.0
PRODID:-//ortenaukultur.de//NONSGML kigkonsult.se iCalcreator 2.41.92//
CALSCALE:GREGORIAN
METHOD:PUBLISH
UID:33356233-3438-4562-b431-653633373666
X-WR-TIMEZONE:Europe/Berlin
X-LIC-LOCATION:Europe/Berlin
BEGIN:VEVENT
UID:590847-kulturportal@ortenaukultur.de
DTSTAMP:20260422T073924Z
DESCRIPTION:Kurzbeschreibung:\n Warum stehen hier so viele Steine? Eine Rei
 se über den Bergfriedhof mit Kinderaugen\n Ort:\n Bergfriedhof Lahr\, Frie
 dhofstraße 45\n Burgheimerstraße\, 77933 Lahr\n Veranstalter:\n Stadt Lahr
 \n Termin:\n Beginn: 05.09.2026\, 11:00 Uhr\n Ende: 05.09.2026\n Tickets:
 \n \n https://erlebe.lahr.de/oeffentliche-fuehrungen-buchen.274465.htm#/ex
 perience/FIT00020072609253601\n Link:\n Page détaillée
DTSTART;TZID=Europe/Berlin:20260905T110000
DTEND;TZID=Europe/Berlin:20260905T140000
LOCATION:Bergfriedhof Lahr\, Friedhofstraße 45\, Burgheimerstraße\, 77933 L
 ahr
SUMMARY:Stadtführung - Kinderführung über den Lahrer Bergfriedhof\, Burghei
 mer Kirche
X-ALT-DESC;FMTTYPE=text/html:<strong>Kurzbeschreibung:</strong><br/>Warum s
 tehen hier so viele Steine? \nEine Reise über den Bergfriedhof mit Kindera
 ugen \n<br /><strong>Ort:</strong><br/>Bergfriedhof Lahr\, Friedhofstraße 
 45<br/>Burgheimerstraße\, 77933 Lahr<br /><strong>Veranstalter:</strong><b
 r/>Stadt Lahr<br /><strong>Termin:</strong><br/>Beginn: 05.09.2026\, 11:00
  Uhr<br/>Ende: 05.09.2026<br /><strong>Tickets: </strong><br/><a  class='w
 co_cb_subtitle_link'  id='ticketlink'  href='https://erlebe.lahr.de/oeffen
 tliche-fuehrungen-buchen.274465.htm#/experience/FIT00020072609253601' targ
 et='_blank' title='Öffnet externen Link in einem neuen Fenster'></a><br/>h
 ttps://erlebe.lahr.de/oeffentliche-fuehrungen-buchen.274465.htm#/experienc
 e/FIT00020072609253601<br /><strong>Link:</strong><br/><a href='https://or
 tenaukultur.de/fr/evenements/detail/evenement/id/590847-stadtfuehrung-kind
 erfuehrung-ueber-den-lahrer-bergfriedhof/?vt=1'>Page détaillée </a>
END:VEVENT
END:VCALENDAR
