BEGIN:VCALENDAR
VERSION:2.0
PRODID:-//ortenaukultur.de//NONSGML kigkonsult.se iCalcreator 2.41.92//
CALSCALE:GREGORIAN
METHOD:PUBLISH
UID:66386634-3031-4134-b637-366137363138
X-WR-TIMEZONE:Europe/Berlin
X-LIC-LOCATION:Europe/Berlin
BEGIN:VEVENT
UID:591553-kulturportal@ortenaukultur.de
DTSTAMP:20260422T225550Z
DESCRIPTION:Kurzbeschreibung:\n Eine Hommage an den vielleicht größten deut
 schen Liedermacher aller Zeiten\, Reinhard Mey Eine Stimme\, eine Gitarre\
 , mehr braucht es nicht...\n Ort:\n Simplicissimus-Haus\n Hauptstraße 59\,
  77871 Renchen\n Veranstalter:\n Grimmelshausenfreunde e. V.\n Termin:\n B
 eginn: 08.05.2026\, 20:00 Uhr\n Ende: 08.05.2026\n Tickets:\n Tickets\n ht
 tps://renchen.reservix.de/p/reservix/event/2520998\n VVK 10 €\, AK 12 €\n 
 Link:\n Page détaillée
DTSTART;TZID=Europe/Berlin:20260508T200000
DTEND;TZID=Europe/Berlin:20260508T230000
LOCATION:Simplicissimus-Haus \, Hauptstraße 59\, 77871 Renchen
SUMMARY:Liederabend mit Berthold Bier\, Simplicissimus-Haus
X-ALT-DESC;FMTTYPE=text/html:<strong>Kurzbeschreibung:</strong><br/>Eine Ho
 mmage an den vielleicht größten deutschen Liedermacher aller Zeiten\, Rein
 hard Mey\nEine Stimme\, eine Gitarre\, mehr braucht es nicht...<br /><stro
 ng>Ort:</strong><br/>Simplicissimus-Haus <br/>Hauptstraße 59\, 77871 Rench
 en<br /><strong>Veranstalter:</strong><br/>Grimmelshausenfreunde e. V.<br 
 /><strong>Termin:</strong><br/>Beginn: 08.05.2026\, 20:00 Uhr<br/>Ende: 08
 .05.2026<br /><strong>Tickets: </strong><br/><a  class='wco_cb_subtitle_li
 nk'  id='ticketlink'  href='https://renchen.reservix.de/p/reservix/event/2
 520998' target='_blank' title='Öffnet externen Link in einem neuen Fenster
 '>Tickets</a><br/>https://renchen.reservix.de/p/reservix/event/2520998<br/
 >VVK 10 €\, AK 12 €<br /><strong>Link:</strong><br/><a href='https://orten
 aukultur.de/fr/evenements/detail/evenement/id/591553-liederabend-mit-berth
 old-bier/?vt=1'>Page détaillée </a>
END:VEVENT
END:VCALENDAR
