BEGIN:VCALENDAR
VERSION:2.0
PRODID:-//ortenaukultur.de//NONSGML kigkonsult.se iCalcreator 2.41.92//
CALSCALE:GREGORIAN
METHOD:PUBLISH
UID:37653936-3461-4336-b665-356636336636
X-WR-TIMEZONE:Europe/Berlin
X-LIC-LOCATION:Europe/Berlin
BEGIN:VEVENT
UID:594319-kulturportal@ortenaukultur.de
DTSTAMP:20260421T224557Z
DESCRIPTION:Kurzbeschreibung:\n Brigitte Fredenhagen - Collage Nicole Killi
 us - Malerei und Druck Präsentiert vom Künstlerkreis Windschläg e.V.\n Ort
 :\n Festhalle Windschläg\n Oberrothweg\, 77652 Offenburg-Windschläg\n Vera
 nstalter:\n Künstlerkreis Windschläg e.V.\n Termin:\n Beginn: 25.04.2026\,
  16:00 Uhr\n Ende: 25.04.2026\n Tickets:\n Eintritt frei\n Link:\n Page dé
 taillée
DTSTART;TZID=Europe/Berlin:20260425T160000
DTEND;TZID=Europe/Berlin:20260425T190000
LOCATION:Festhalle Windschläg\, Oberrothweg\, 77652 Offenburg-Windschläg
SUMMARY:VERNISSAGE: Potpourri \, Festhalle Windschläg
X-ALT-DESC;FMTTYPE=text/html:<strong>Kurzbeschreibung:</strong><br/>Brigitt
 e Fredenhagen  - Collage \nNicole Killius - Malerei und Druck\nPräsentiert
  vom Künstlerkreis Windschläg e.V.\n\n<br /><strong>Ort:</strong><br/>Fest
 halle Windschläg<br/>Oberrothweg\, 77652 Offenburg-Windschläg<br /><strong
 >Veranstalter:</strong><br/>Künstlerkreis Windschläg e.V.<br /><strong>Ter
 min:</strong><br/>Beginn: 25.04.2026\, 16:00 Uhr<br/>Ende: 25.04.2026<br /
 ><strong>Tickets: </strong><br/>Eintritt  frei<br /><strong>Link:</strong>
 <br/><a href='https://ortenaukultur.de/fr/evenements/detail/evenement/id/5
 94319-vernissage-potpourri/?vt=1'>Page détaillée </a>
END:VEVENT
END:VCALENDAR
