BEGIN:VCALENDAR
VERSION:2.0
PRODID:-//ortenaukultur.de//NONSGML kigkonsult.se iCalcreator 2.41.92//
CALSCALE:GREGORIAN
METHOD:PUBLISH
UID:66383762-6662-4565-b334-313266646436
X-WR-TIMEZONE:Europe/Berlin
X-LIC-LOCATION:Europe/Berlin
BEGIN:VEVENT
UID:556487-kulturportal@ortenaukultur.de
DTSTAMP:20260422T091006Z
DESCRIPTION:Kurzbeschreibung:\n Eine ebenso temporeiche wie energiegeladene
  Bühnenversion mit schwäbischem Lokalkolorit und Live-Band. Frei nach dem 
 Film von John Landis.\n Ort:\n Parktheater\n Kaiserstraße 107\, 77933 Lahr
 \n Veranstalter:\n LahrKultur\n Termin:\n Beginn: 24.04.2026\, 20:00 Uhr\n
  Ende: 24.04.2026\n Tickets:\n Achat de billets\n https://ortenaukultur.re
 servix.de/p/reservix/event/2385615\n 1. Platz:\n 2. Platz:\n jusqu'à 28\,5
 0 € + Réduction\n 3. Platz:\n jusqu'à 23\,00 € + Réduction\n 4. Platz:\n j
 usqu'à 15\,30 € + Réduction\n *Toute taxe comprise\n \n Link:\n Page détai
 llée
DTSTART;TZID=Europe/Berlin:20260424T200000
DTEND;TZID=Europe/Berlin:20260424T230000
LOCATION:Parktheater\, Kaiserstraße 107\, 77933 Lahr
SUMMARY:Die Blues Brothers - Ein Roadtrip through THE LÄND\, Parktheater
X-ALT-DESC;FMTTYPE=text/html:<strong>Kurzbeschreibung:</strong><br/>Eine eb
 enso temporeiche wie energiegeladene Bühnenversion mit schwäbischem Lokalk
 olorit und Live-Band.\n\nFrei nach dem Film von John Landis.\n<br /><stron
 g>Ort:</strong><br/>Parktheater<br/>Kaiserstraße 107\, 77933 Lahr<br /><st
 rong>Veranstalter:</strong><br/>LahrKultur<br /><strong>Termin:</strong><b
 r/>Beginn: 24.04.2026\, 20:00 Uhr<br/>Ende: 24.04.2026<br /><strong>Ticket
 s: </strong><br/><a rel='asdf' href='https://ortenaukultur.de/fr/evenement
 s/litterature/detail/billets/id/556487-les-blues-brothers-un-roadtrip-a-tr
 avers-the-laend/?follow=https%253A%252F%252Fortenaukultur.reservix.de%252F
 p%252Freservix%252Fevent%252F2385615' target='_blank' title='' id='ticketl
 ink'>Achat de billets</a><br/>https://ortenaukultur.reservix.de/p/reservix
 /event/2385615<br/><b>1. Platz: </b><br /><b>2. Platz: </b><br />jusqu&#03
 9\;à 28\,50 &euro\;&nbsp\; + Réduction<br /><b>3. Platz: </b><br />jusqu&#
 039\;à 23\,00 &euro\;&nbsp\; + Réduction<br /><b>4. Platz: </b><br />jusqu
 &#039\;à 15\,30 &euro\;&nbsp\; + Réduction<br />*Toute taxe comprise<br />
 <br /><strong>Link:</strong><br/><a href='https://ortenaukultur.de/fr/even
 ements/detail/evenement/id/556487-die-blues-brothers-ein-roadtrip-through-
 the-laend/?vt=1'>Page détaillée </a>
END:VEVENT
END:VCALENDAR
