BEGIN:VCALENDAR
VERSION:2.0
PRODID:-//ortenaukultur.de//NONSGML kigkonsult.se iCalcreator 2.41.92//
CALSCALE:GREGORIAN
METHOD:PUBLISH
UID:36366364-3666-4837-a333-393963396331
X-WR-TIMEZONE:Europe/Berlin
X-LIC-LOCATION:Europe/Berlin
BEGIN:VEVENT
UID:568369-kulturportal@ortenaukultur.de
DTSTAMP:20260421T210026Z
DESCRIPTION:Kurzbeschreibung:\n REFLEKTION. Duft der Zeit entsteht unter de
 r künstlerischen Leitung von Gabriel Torres Morandi\, mit den Interpretati
 onen von Phoebe Wacker und Amelie Karl.\n Ort:\n Stiftsschaffneikeller\n F
 riedrichstraße 7\, 77933 Lahr\n Veranstalter:\n KULTURKREIS LAHR e.V.\n Te
 rmin:\n Beginn: 25.04.2026\, 20:00 Uhr\n Ende: 25.04.2026\n Tickets:\n Vor
 verkauf 10\, - / 8\, - € (Schüler und Studenten)\n Abendkasse 12\, - / 10\
 , - € (Schüler und Studenten)\n Link:\n Page détaillée
DTSTART;TZID=Europe/Berlin:20260425T200000
DTEND;TZID=Europe/Berlin:20260425T230000
LOCATION:Stiftsschaffneikeller\, Friedrichstraße 7\, 77933 Lahr
SUMMARY:Performing Arts - REFLEKTION. Duft der Zeit\, Stiftsschaffneikeller
X-ALT-DESC;FMTTYPE=text/html:<strong>Kurzbeschreibung:</strong><br/>REFLEKT
 ION. Duft der Zeit  entsteht unter der künstlerischen Leitung von Gabriel 
 Torres Morandi\, mit den Interpretationen von Phoebe Wacker und Amelie Kar
 l.<br /><strong>Ort:</strong><br/>Stiftsschaffneikeller<br/>Friedrichstraß
 e 7\, 77933 Lahr<br /><strong>Veranstalter:</strong><br/>KULTURKREIS LAHR 
 e.V.<br /><strong>Termin:</strong><br/>Beginn: 25.04.2026\, 20:00 Uhr<br/>
 Ende: 25.04.2026<br /><strong>Tickets: </strong><br/>Vorverkauf 10\, - / 8
 \, - € (Schüler und Studenten)<br />\nAbendkasse 12\, - / 10\, - € (Schüle
 r und Studenten)<br /><strong>Link:</strong><br/><a href='https://ortenauk
 ultur.de/fr/evenements/detail/evenement/id/568369-performing-arts-reflekti
 on-duft-der-zeit/?vt=1'>Page détaillée </a>
END:VEVENT
END:VCALENDAR
