BEGIN:VCALENDAR
VERSION:2.0
PRODID:-//ortenaukultur.de//NONSGML kigkonsult.se iCalcreator 2.41.92//
CALSCALE:GREGORIAN
METHOD:PUBLISH
UID:61386461-3939-4936-b237-633730623131
X-WR-TIMEZONE:Europe/Berlin
X-LIC-LOCATION:Europe/Berlin
BEGIN:VEVENT
UID:570995-kulturportal@ortenaukultur.de
DTSTAMP:20260422T003336Z
DESCRIPTION:Kurzbeschreibung:\n OLAF SALIÉ (Publizist und Autor) in der Rei
 he TÊTE À TÊTE „In Frankreich ist Kultur Staatsraison“\n Ort:\n Kulturforu
 m Illenau\n Illenauer Allee 77\, 77855 Achern\n Veranstalter:\n Stadt Ache
 rn - FG 3.3 Kultur\n Termin:\n Beginn: 08.05.2026\, 19:30 Uhr\n Ende: 08.0
 5.2026\n Tickets:\n Achat de billets\n https://ortenaukultur.reservix.de/p
 /reservix/event/2418474\n Einheitspreis:\n jusqu'à 20\,00 € + Réduction\n 
 *Toute taxe comprise\n \n Link:\n Page détaillée
DTSTART;TZID=Europe/Berlin:20260508T193000
DTEND;TZID=Europe/Berlin:20260508T223000
LOCATION:Kulturforum Illenau \, Illenauer Allee 77\, 77855 Achern
SUMMARY:Olaf Salié\, Kulturforum Illenau
X-ALT-DESC;FMTTYPE=text/html:<strong>Kurzbeschreibung:</strong><br/>OLAF SA
 LIÉ (Publizist und Autor) in der Reihe TÊTE À TÊTE\n\n„In Frankreich ist K
 ultur Staatsraison“<br /><strong>Ort:</strong><br/>Kulturforum Illenau  <b
 r/>Illenauer Allee 77\, 77855 Achern<br /><strong>Veranstalter:</strong><b
 r/>Stadt Achern - FG 3.3 Kultur<br /><strong>Termin:</strong><br/>Beginn: 
 08.05.2026\, 19:30 Uhr<br/>Ende: 08.05.2026<br /><strong>Tickets: </strong
 ><br/><a rel='asdf' href='https://ortenaukultur.de/fr/evenements/litteratu
 re/detail/billets/id/570995-olaf-salie/?follow=https%253A%252F%252Fortenau
 kultur.reservix.de%252Fp%252Freservix%252Fevent%252F2418474' target='_blan
 k' title='' id='ticketlink'>Achat de billets</a><br/>https://ortenaukultur
 .reservix.de/p/reservix/event/2418474<br/><b>Einheitspreis: </b><br />jusq
 u&#039\;à 20\,00 &euro\;&nbsp\; + Réduction<br />*Toute taxe comprise<br /
 ><br /><strong>Link:</strong><br/><a href='https://ortenaukultur.de/fr/eve
 nements/detail/evenement/id/570995-olaf-salie/?vt=1'>Page détaillée </a>
END:VEVENT
END:VCALENDAR
