BEGIN:VCALENDAR
VERSION:2.0
PRODID:-//ortenaukultur.de//NONSGML kigkonsult.se iCalcreator 2.41.92//
CALSCALE:GREGORIAN
METHOD:PUBLISH
UID:62393934-6661-4063-a132-303631663538
X-WR-TIMEZONE:Europe/Berlin
X-LIC-LOCATION:Europe/Berlin
BEGIN:VEVENT
UID:584429-kulturportal@ortenaukultur.de
DTSTAMP:20260422T023121Z
DESCRIPTION:Kurzbeschreibung:\n Shakespeare & Popmusik? Ja! Die zigtausend 
 Besucherinnen und Besucher in den letzten Jahren können sich kaum irren.\n
  Ort:\n Garten Schloss Gaisbach\n Gaisbach 24\, 77704 Oberkirch\n Veransta
 lter:\n Oberkirch Kultur\n Termin:\n Beginn: 02.07.2026\, 20:30 Uhr\n Ende
 : 02.07.2026\n Tickets:\n Achat de billets\n https://ortenaukultur.reservi
 x.de/p/reservix/event/2491566\n Preise:\n jusqu'à 16\,00 € + Réduction\n *
 Toute taxe comprise\n \n Link:\n Page détaillée
DTSTART;TZID=Europe/Berlin:20260702T203000
DTEND;TZID=Europe/Berlin:20260702T233000
LOCATION:Garten Schloss Gaisbach\, Gaisbach 24\, 77704 Oberkirch
SUMMARY:piano.vocal: Sommernachtstraum\, Garten Schloss Gaisbach
X-ALT-DESC;FMTTYPE=text/html:<strong>Kurzbeschreibung:</strong><br/>Shakesp
 eare & Popmusik? Ja! Die zigtausend Besucherinnen und Besucher in den letz
 ten Jahren können sich kaum irren.<br /><strong>Ort:</strong><br/>Garten S
 chloss Gaisbach<br/>Gaisbach 24\, 77704 Oberkirch<br /><strong>Veranstalte
 r:</strong><br/>Oberkirch Kultur<br /><strong>Termin:</strong><br/>Beginn:
  02.07.2026\, 20:30 Uhr<br/>Ende: 02.07.2026<br /><strong>Tickets: </stron
 g><br/><a rel='asdf' href='https://ortenaukultur.de/fr/evenements/litterat
 ure/detail/billets/id/584429-piano-vocal-sommernachtstraum/?follow=https%2
 53A%252F%252Fortenaukultur.reservix.de%252Fp%252Freservix%252Fevent%252F24
 91566' target='_blank' title='' id='ticketlink'>Achat de billets</a><br/>h
 ttps://ortenaukultur.reservix.de/p/reservix/event/2491566<br/><b>Preise: <
 /b><br />jusqu&#039\;à 16\,00 &euro\;&nbsp\; + Réduction<br />*Toute taxe 
 comprise<br /><br /><strong>Link:</strong><br/><a href='https://ortenaukul
 tur.de/fr/evenements/detail/evenement/id/584429-piano-vocal-sommernachtstr
 aum/?vt=1'>Page détaillée </a>
END:VEVENT
END:VCALENDAR
