BEGIN:VCALENDAR
VERSION:2.0
PRODID:-//ortenaukultur.de//NONSGML kigkonsult.se iCalcreator 2.41.92//
CALSCALE:GREGORIAN
METHOD:PUBLISH
UID:35356137-6564-4635-b935-373435646435
X-WR-TIMEZONE:Europe/Berlin
X-LIC-LOCATION:Europe/Berlin
BEGIN:VEVENT
UID:584575-kulturportal@ortenaukultur.de
DTSTAMP:20260422T102403Z
DESCRIPTION:Kurzbeschreibung:\n Auf der Waldbühne am Klosterplatz wird jede
 n Abend ein Bilderbuch auf die Leinwand projiziert und von Hausachern(inne
 n) weihnachtliche Geschichten vorgelesen.\n Ort:\n Klosterplatz/Waldbühne
 \n Klosterplatz\, 77756 Hausach\n Veranstalter:\n Forum Hausach e.V.\n Ter
 min:\n Beginn: 01.12.2026\, 17:00 Uhr\n Ende: 01.12.2026\n Link:\n Page dé
 taillée
DTSTART;TZID=Europe/Berlin:20261201T170000
DTEND;TZID=Europe/Berlin:20261201T200000
LOCATION:Klosterplatz/Waldbühne\, Klosterplatz\, 77756 Hausach
SUMMARY:Hausacher Bilderbuchadvent \, Klosterplatz/Waldbühne
X-ALT-DESC;FMTTYPE=text/html:<strong>Kurzbeschreibung:</strong><br/>Auf der
  Waldbühne am Klosterplatz wird jeden Abend ein Bilderbuch auf die Leinwan
 d projiziert und von Hausachern(innen) weihnachtliche Geschichten vorgeles
 en. <br /><strong>Ort:</strong><br/>Klosterplatz/Waldbühne<br/>Klosterplat
 z\, 77756 Hausach<br /><strong>Veranstalter:</strong><br/>Forum Hausach e.
 V.<br /><strong>Termin:</strong><br/>Beginn: 01.12.2026\, 17:00 Uhr<br/>En
 de: 01.12.2026<br /><strong>Link:</strong><br/><a href='https://ortenaukul
 tur.de/fr/evenements/detail/evenement/id/584575-hausacher-bilderbuchadvent
 /?vt=1'>Page détaillée </a>
END:VEVENT
END:VCALENDAR
