BEGIN:VCALENDAR
VERSION:2.0
PRODID:-//ortenaukultur.de//NONSGML kigkonsult.se iCalcreator 2.41.92//
CALSCALE:GREGORIAN
METHOD:PUBLISH
UID:65376332-3136-4264-b061-666434323266
X-WR-TIMEZONE:Europe/Berlin
X-LIC-LOCATION:Europe/Berlin
BEGIN:VEVENT
UID:584910-kulturportal@ortenaukultur.de
DTSTAMP:20260422T055606Z
DESCRIPTION:Kurzbeschreibung:\n Unter dem Motto 'Literatur für Liebhaber' e
 ntführen Marion und Markus von Hagen ihr Publikum in die Welt Grimmelshaus
 ens.\n Ort:\n Veranstaltungsraum Mediathek\n Hauptstraße 12\, 77704 Oberki
 rch\n Veranstalter:\n Stadt Oberkirch\n Termin:\n Beginn: 23.04.2026\, 19:
 00 Uhr\n Ende: 23.04.2026\n Tickets:\n Achat de billets\n https://ortenauk
 ultur.reservix.de/p/reservix/event/2496597\n Preise:\n jusqu'à 8\,00 € + R
 éduction\n *Toute taxe comprise\n \n Link:\n Page détaillée
DTSTART;TZID=Europe/Berlin:20260423T190000
DTEND;TZID=Europe/Berlin:20260423T220000
LOCATION:Veranstaltungsraum Mediathek\, Hauptstraße 12\, 77704 Oberkirch
SUMMARY:Hans Jacob Christoffel von Grimmelshausen\, Veranstaltungsraum Medi
 athek
X-ALT-DESC;FMTTYPE=text/html:<strong>Kurzbeschreibung:</strong><br/>Unter d
 em Motto 'Literatur für Liebhaber' entführen Marion und Markus von Hagen i
 hr Publikum in die Welt Grimmelshausens.<br /><strong>Ort:</strong><br/>Ve
 ranstaltungsraum Mediathek<br/>Hauptstraße 12\, 77704 Oberkirch<br /><stro
 ng>Veranstalter:</strong><br/>Stadt Oberkirch<br /><strong>Termin:</strong
 ><br/>Beginn: 23.04.2026\, 19:00 Uhr<br/>Ende: 23.04.2026<br /><strong>Tic
 kets: </strong><br/><a rel='asdf' href='https://ortenaukultur.de/fr/evenem
 ents/litterature/detail/billets/id/584910-hans-jacob-christoffel-von-grimm
 elshausen/?follow=https%253A%252F%252Fortenaukultur.reservix.de%252Fp%252F
 reservix%252Fevent%252F2496597' target='_blank' title='' id='ticketlink'>A
 chat de billets</a><br/>https://ortenaukultur.reservix.de/p/reservix/event
 /2496597<br/><b>Preise: </b><br />jusqu&#039\;à 8\,00 &euro\;&nbsp\; + Réd
 uction<br />*Toute taxe comprise<br /><br /><strong>Link:</strong><br/><a 
 href='https://ortenaukultur.de/fr/evenements/detail/evenement/id/584910-ha
 ns-jacob-christoffel-von-grimmelshausen/?vt=1'>Page détaillée </a>
END:VEVENT
END:VCALENDAR
