BEGIN:VCALENDAR
VERSION:2.0
PRODID:-//ortenaukultur.de//NONSGML kigkonsult.se iCalcreator 2.41.92//
CALSCALE:GREGORIAN
METHOD:PUBLISH
UID:65313166-6632-4235-b765-373565303066
X-WR-TIMEZONE:Europe/Berlin
X-LIC-LOCATION:Europe/Berlin
BEGIN:VEVENT
UID:585113-kulturportal@ortenaukultur.de
DTSTAMP:20260421T212743Z
DESCRIPTION:Kurzbeschreibung:\n Eine spannende Lesung aus dem Schwarzwald-K
 rimi mit dem Autor Markus Fix.\n Ort:\n Gasthof zur Sonne\n Hauptstraße 34
 \, 77704 Oberkirch\n Veranstalter:\n Stadt Oberkirch\n Termin:\n Beginn: 1
 3.10.2026\, 19:00 Uhr\n Ende: 13.10.2026\n Tickets:\n Achat de billets\n h
 ttps://ortenaukultur.reservix.de/p/reservix/event/2498812\n Preise:\n jusq
 u'à 8\,00 € + Réduction\n *Toute taxe comprise\n \n Link:\n Page détaillée
DTSTART;TZID=Europe/Berlin:20261013T190000
DTEND;TZID=Europe/Berlin:20261013T220000
LOCATION:Gasthof zur Sonne\, Hauptstraße 34\, 77704 Oberkirch
SUMMARY:Wenn die Tannen Trauer tragen\, Gasthof zur Sonne
X-ALT-DESC;FMTTYPE=text/html:<strong>Kurzbeschreibung:</strong><br/>Eine sp
 annende Lesung aus dem Schwarzwald-Krimi mit dem Autor Markus Fix.<br /><s
 trong>Ort:</strong><br/>Gasthof zur Sonne<br/>Hauptstraße 34\, 77704 Oberk
 irch<br /><strong>Veranstalter:</strong><br/>Stadt Oberkirch<br /><strong>
 Termin:</strong><br/>Beginn: 13.10.2026\, 19:00 Uhr<br/>Ende: 13.10.2026<b
 r /><strong>Tickets: </strong><br/><a rel='asdf' href='https://ortenaukult
 ur.de/fr/evenements/litterature/detail/billets/id/585113-wenn-die-tannen-t
 rauer-tragen/?follow=https%253A%252F%252Fortenaukultur.reservix.de%252Fp%2
 52Freservix%252Fevent%252F2498812' target='_blank' title='' id='ticketlink
 '>Achat de billets</a><br/>https://ortenaukultur.reservix.de/p/reservix/ev
 ent/2498812<br/><b>Preise: </b><br />jusqu&#039\;à 8\,00 &euro\;&nbsp\; + 
 Réduction<br />*Toute taxe comprise<br /><br /><strong>Link:</strong><br/>
 <a href='https://ortenaukultur.de/fr/evenements/detail/evenement/id/585113
 -wenn-die-tannen-trauer-tragen/?vt=1'>Page détaillée </a>
END:VEVENT
END:VCALENDAR
