BEGIN:VCALENDAR
VERSION:2.0
PRODID:-//ortenaukultur.de//NONSGML kigkonsult.se iCalcreator 2.41.92//
CALSCALE:GREGORIAN
METHOD:PUBLISH
UID:61656364-6264-4036-b765-663136386535
X-WR-TIMEZONE:Europe/Berlin
X-LIC-LOCATION:Europe/Berlin
BEGIN:VEVENT
UID:591435-kulturportal@ortenaukultur.de
DTSTAMP:20260421T231852Z
DESCRIPTION:Kurzbeschreibung:\n Herzliche Einladung zur magischen Walpurgis
 nacht\, dem Fest der heiligen Lebenskraft.\n Ort:\n Alte Rösterei (Kehler 
 Hafen)\n Ostrstraße 13\, 77694 Kehl\n Veranstalter:\n Theater der zwei Ufe
 r.e.V.\n Termin:\n Beginn: 30.04.2026\n Ende: 30.04.2026\n Link:\n Page dé
 taillée
DTSTART;TZID=Europe/Berlin:20260430T000000
DTEND;TZID=Europe/Berlin:20260430T030000
LOCATION:Alte Rösterei (Kehler Hafen)\, Ostrstraße 13\, 77694 Kehl
SUMMARY:Zauberhafte Walpurgisnacht- in der Reihe : Rituale im Jahreskreis\,
  Alte Rösterei (Kehler Hafen)
X-ALT-DESC;FMTTYPE=text/html:<strong>Kurzbeschreibung:</strong><br/>Herzlic
 he Einladung zur magischen Walpurgisnacht\, dem Fest der heiligen Lebenskr
 aft.<br /><strong>Ort:</strong><br/>Alte Rösterei (Kehler Hafen)<br/>Ostrs
 traße 13\, 77694 Kehl<br /><strong>Veranstalter:</strong><br/>Theater der 
 zwei Ufer.e.V.<br /><strong>Termin:</strong><br/>Beginn: 30.04.2026<br/>En
 de: 30.04.2026<br /><strong>Link:</strong><br/><a href='https://ortenaukul
 tur.de/fr/evenements/detail/evenement/id/591435-zauberhafte-walpurgisnacht
 -in-der-reihe-rituale-im-jahreskreis/?vt=1'>Page détaillée </a>
END:VEVENT
END:VCALENDAR
