BEGIN:VCALENDAR
VERSION:2.0
PRODID:-//ortenaukultur.de//NONSGML kigkonsult.se iCalcreator 2.41.92//
CALSCALE:GREGORIAN
METHOD:PUBLISH
UID:34366663-6538-4733-b638-393965366137
X-WR-TIMEZONE:Europe/Berlin
X-LIC-LOCATION:Europe/Berlin
BEGIN:VEVENT
UID:591558-kulturportal@ortenaukultur.de
DTSTAMP:20260421T211952Z
DESCRIPTION:Kurzbeschreibung:\n Die Lesung verbindet Fakten\, Anekdoten und
  Außergewöhnliches. Im Anschluss führt Heinz Schäfer\, als Nachtwächter ge
 kleidet\, zu einem historischen Kuriosum.\n Ort:\n Simplicissimus-Haus\n H
 auptstraße 59\, 77871 Renchen\n Veranstalter:\n Grimmelshausenfreunde e. V
 .\n Termin:\n Beginn: 11.06.2026\, 20:00 Uhr\n Ende: 11.06.2026\n Tickets:
 \n Tickets\n https://renchen.reservix.de/p/reservix/event/2521030\n Vorver
 kauf 10 € · Abendkasse 12 €\n Link:\n Page détaillée
DTSTART;TZID=Europe/Berlin:20260611T200000
DTEND;TZID=Europe/Berlin:20260611T230000
LOCATION:Simplicissimus-Haus \, Hauptstraße 59\, 77871 Renchen
SUMMARY:'Ignaz Heim' Lesung und traditioneller Nachtwächterrundgang\, Simpl
 icissimus-Haus
X-ALT-DESC;FMTTYPE=text/html:<strong>Kurzbeschreibung:</strong><br/>Die Les
 ung verbindet Fakten\, Anekdoten und Außergewöhnliches. Im Anschluss führt
  Heinz Schäfer\, als Nachtwächter gekleidet\, zu einem historischen Kurios
 um.<br /><strong>Ort:</strong><br/>Simplicissimus-Haus <br/>Hauptstraße 59
 \, 77871 Renchen<br /><strong>Veranstalter:</strong><br/>Grimmelshausenfre
 unde e. V.<br /><strong>Termin:</strong><br/>Beginn: 11.06.2026\, 20:00 Uh
 r<br/>Ende: 11.06.2026<br /><strong>Tickets: </strong><br/><a  class='wco_
 cb_subtitle_link'  id='ticketlink'  href='https://renchen.reservix.de/p/re
 servix/event/2521030' target='_blank' title='Öffnet externen Link in einem
  neuen Fenster'>Tickets</a><br/>https://renchen.reservix.de/p/reservix/eve
 nt/2521030<br/>Vorverkauf 10 € · Abendkasse 12 €<br /><strong>Link:</stron
 g><br/><a href='https://ortenaukultur.de/fr/evenements/detail/evenement/id
 /591558-ignaz-heim-lesung-und-traditioneller-nachtwaechterrundgang/?vt=1'>
 Page détaillée </a>
END:VEVENT
END:VCALENDAR
