BEGIN:VCALENDAR
VERSION:2.0
PRODID:-//ortenaukultur.de//NONSGML kigkonsult.se iCalcreator 2.41.92//
CALSCALE:GREGORIAN
METHOD:PUBLISH
UID:66646365-6136-4038-b936-316535303030
X-WR-TIMEZONE:Europe/Berlin
X-LIC-LOCATION:Europe/Berlin
BEGIN:VEVENT
UID:556336-kulturportal@ortenaukultur.de
DTSTAMP:20260421T212504Z
DESCRIPTION:Kurzbeschreibung:\n (Driving Miss Daisy) Schauspiel von Alfred 
 Uhry Deutsch von Ursula Lyn Tournee-Theater THESPISKARREN\n Ort:\n Stadtha
 lle - Großer Saal\n Großherzog-Friedrich-Str. 19\, 77694 Kehl\n Veranstalt
 er:\n Kulturbüro Kehl\n Termin:\n Beginn: 30.04.2026\n Ende: 30.04.2026\n 
 Tickets:\n Achat de billets\n https://ortenaukultur.reservix.de/p/reservix
 /event/2343543\n 1. Kategorie:\n jusqu'à 24\,10 € + Réduction\n 2.Kategori
 e:\n jusqu'à 20\,25 € + Réduction\n 3.Kategorie:\n jusqu'à 17\,50 € + Rédu
 ction\n 4. Kategorie:\n jusqu'à 15\,30 € + Réduction\n 5.Kategorie:\n jusq
 u'à 10\,90 € + Réduction\n *Toute taxe comprise\n \n Link:\n Page détaillé
 e
DTSTART;TZID=Europe/Berlin:20260430T000000
DTEND;TZID=Europe/Berlin:20260430T030000
LOCATION:Stadthalle - Großer Saal\, Großherzog-Friedrich-Str. 19\, 77694 Ke
 hl
SUMMARY:Miss Daisy und ihr Chauffeur\, Stadthalle - Großer Saal
X-ALT-DESC;FMTTYPE=text/html:<strong>Kurzbeschreibung:</strong><br/>(Drivin
 g Miss Daisy)\nSchauspiel von Alfred Uhry \nDeutsch von Ursula Lyn\nTourne
 e-Theater THESPISKARREN\n<br /><strong>Ort:</strong><br/>Stadthalle - Groß
 er Saal<br/>Großherzog-Friedrich-Str. 19\, 77694 Kehl<br /><strong>Veranst
 alter:</strong><br/>Kulturbüro Kehl<br /><strong>Termin:</strong><br/>Begi
 nn: 30.04.2026<br/>Ende: 30.04.2026<br /><strong>Tickets: </strong><br/><a
  rel='asdf' href='https://ortenaukultur.de/fr/evenements/theatre/detail/bi
 llets/id/556336-miss-daisy-und-ihr-chauffeur/?follow=https%253A%252F%252Fo
 rtenaukultur.reservix.de%252Fp%252Freservix%252Fevent%252F2343543' target=
 '_blank' title='' id='ticketlink'>Achat de billets</a><br/>https://ortenau
 kultur.reservix.de/p/reservix/event/2343543<br/><b>1. Kategorie: </b><br /
 >jusqu&#039\;à 24\,10 &euro\;&nbsp\; + Réduction<br /><b>2.Kategorie: </b>
 <br />jusqu&#039\;à 20\,25 &euro\;&nbsp\; + Réduction<br /><b>3.Kategorie:
  </b><br />jusqu&#039\;à 17\,50 &euro\;&nbsp\; + Réduction<br /><b>4. Kate
 gorie: </b><br />jusqu&#039\;à 15\,30 &euro\;&nbsp\; + Réduction<br /><b>5
 .Kategorie: </b><br />jusqu&#039\;à 10\,90 &euro\;&nbsp\; + Réduction<br /
 >*Toute taxe comprise<br /><br /><strong>Link:</strong><br/><a href='https
 ://ortenaukultur.de/fr/evenements/detail/evenement/id/556336-miss-daisy-un
 d-ihr-chauffeur/?vt=1'>Page détaillée </a>
END:VEVENT
END:VCALENDAR
