BEGIN:VCALENDAR
VERSION:2.0
PRODID:-//ortenaukultur.de//NONSGML kigkonsult.se iCalcreator 2.41.92//
CALSCALE:GREGORIAN
METHOD:PUBLISH
UID:63663966-3434-4365-b831-363735353866
X-WR-TIMEZONE:Europe/Berlin
X-LIC-LOCATION:Europe/Berlin
BEGIN:VEVENT
UID:570660-kulturportal@ortenaukultur.de
DTSTAMP:20260422T005553Z
DESCRIPTION:Kurzbeschreibung:\n 12. Offenburger Lachnacht Frederic Hormuth\
 , Lutz von Rosenberg Lipinsky\, René Sydow\, Fee Badenius und Olaf Bossi\n
  Ort:\n Reithalle im Kulturforum\n Moltkestraße 31\, 77654 Offenburg\n Ver
 anstalter:\n Kulturbüro Offenburg\n Termin:\n Beginn: 13.05.2026\, 20:00 U
 hr\n Ende: 13.05.2026\n Tickets:\n Achat de billets\n https://ortenaukultu
 r.reservix.de/p/reservix/event/2382307\n 1. Kategorie:\n jusqu'à 26\,30 € 
 + Réduction\n *Toute taxe comprise\n \n Link:\n Page détaillée
DTSTART;TZID=Europe/Berlin:20260513T200000
DTEND;TZID=Europe/Berlin:20260513T230000
LOCATION:Reithalle im Kulturforum\, Moltkestraße 31\, 77654 Offenburg
SUMMARY:12. Offenburger Lachnacht\, Reithalle im Kulturforum
X-ALT-DESC;FMTTYPE=text/html:<strong>Kurzbeschreibung:</strong><br/>12. Off
 enburger Lachnacht Frederic Hormuth\, Lutz von Rosenberg Lipinsky\, René S
 ydow\, Fee Badenius und Olaf Bossi<br /><strong>Ort:</strong><br/>Reithall
 e im Kulturforum<br/>Moltkestraße 31\, 77654 Offenburg<br /><strong>Verans
 talter:</strong><br/>Kulturbüro Offenburg<br /><strong>Termin:</strong><br
 />Beginn: 13.05.2026\, 20:00 Uhr<br/>Ende: 13.05.2026<br /><strong>Tickets
 : </strong><br/><a rel='asdf' href='https://ortenaukultur.de/fr/evenements
 /theatre/detail/billets/id/570660-12-offenburger-lachnacht/?follow=https%2
 53A%252F%252Fortenaukultur.reservix.de%252Fp%252Freservix%252Fevent%252F23
 82307' target='_blank' title='' id='ticketlink'>Achat de billets</a><br/>h
 ttps://ortenaukultur.reservix.de/p/reservix/event/2382307<br/><b>1. Katego
 rie: </b><br />jusqu&#039\;à 26\,30 &euro\;&nbsp\; + Réduction<br />*Toute
  taxe comprise<br /><br /><strong>Link:</strong><br/><a href='https://orte
 naukultur.de/fr/evenements/detail/evenement/id/570660-12-offenburger-lachn
 acht/?vt=1'>Page détaillée </a>
END:VEVENT
END:VCALENDAR
