BEGIN:VCALENDAR
VERSION:2.0
PRODID:-//ortenaukultur.de//NONSGML kigkonsult.se iCalcreator 2.41.92//
CALSCALE:GREGORIAN
METHOD:PUBLISH
UID:36656538-3137-4736-b433-636465396265
X-WR-TIMEZONE:Europe/Berlin
X-LIC-LOCATION:Europe/Berlin
BEGIN:VEVENT
UID:570674-kulturportal@ortenaukultur.de
DTSTAMP:20260422T023020Z
DESCRIPTION:Kurzbeschreibung:\n Von störrischen Eseln\, goldenen Käfern und
  weiße Frauen - die Erlebnisführung im Renchtal\n Ort:\n diverse Spielorte
  - siehe Beschreibung\, Oppenau\n Veranstalter:\n Renchtal Tourismus GmbH
 \n Termin:\n Beginn: 28.05.2026\, 19:30 Uhr\n Ende: 28.05.2026\n Tickets:
 \n Preis pro Person: 25.-€\; Kinder : 20.-€\n Anmeldung: Tel. 07802 82600 
 oder info@renchtal-tourismus.de\n Link:\n Page détaillée
DTSTART;TZID=Europe/Berlin:20260528T193000
DTEND;TZID=Europe/Berlin:20260528T223000
LOCATION:diverse Spielorte - siehe Beschreibung\, Oppenau
SUMMARY:Sagenhaftes Renchtal\, diverse Spielorte - siehe Beschreibung
X-ALT-DESC;FMTTYPE=text/html:<strong>Kurzbeschreibung:</strong><br/>Von stö
 rrischen Eseln\, goldenen Käfern und weiße Frauen - die Erlebnisführung im
  Renchtal<br /><strong>Ort:</strong><br/>diverse Spielorte - siehe Beschre
 ibung\, Oppenau<br /><strong>Veranstalter:</strong><br/>Renchtal Tourismus
  GmbH<br /><strong>Termin:</strong><br/>Beginn: 28.05.2026\, 19:30 Uhr<br/
 >Ende: 28.05.2026<br /><strong>Tickets: </strong><br/>Preis pro Person: 25
 .-€\; Kinder : 20.-€ <br />\nAnmeldung: Tel. 07802 82600 oder info@renchta
 l-tourismus.de <br /><strong>Link:</strong><br/><a href='https://ortenauku
 ltur.de/fr/evenements/detail/evenement/id/570674-sagenhaftes-renchtal/?vt=
 1'>Page détaillée </a>
END:VEVENT
END:VCALENDAR
