BEGIN:VCALENDAR
VERSION:2.0
PRODID:-//ortenaukultur.de//NONSGML kigkonsult.se iCalcreator 2.41.92//
CALSCALE:GREGORIAN
METHOD:PUBLISH
UID:65396630-6634-4362-b433-323166366639
X-WR-TIMEZONE:Europe/Berlin
X-LIC-LOCATION:Europe/Berlin
BEGIN:VEVENT
UID:572773-kulturportal@ortenaukultur.de
DTSTAMP:20260421T211937Z
DESCRIPTION:Kurzbeschreibung:\n Mix it up! Ein Einstieg ist jederzeit mögli
 ch. Proben: montags\, 17:45-19:15 Uhr Alter: von 16 bis 26 Jahren\n Ort:\n
  Schlachthof\n Dreyspringstr. 16\, 77933 Lahr\n Veranstalter:\n BABEL Jung
 es Theater BAden ALsace - Lahr\n Termin:\n Beginn: 27.04.2026\, 17:45 Uhr
 \n Ende: 27.04.2026\n Tickets:\n Kostenlos\, Anmeldung erforderlich\n Link
 :\n Page détaillée
DTSTART;TZID=Europe/Berlin:20260427T174500
DTEND;TZID=Europe/Berlin:20260427T204500
LOCATION:Schlachthof \, Dreyspringstr. 16\, 77933 Lahr
SUMMARY:ParkTheaterClub\, Schlachthof
X-ALT-DESC;FMTTYPE=text/html:<strong>Kurzbeschreibung:</strong><br/>Mix it 
 up!\n\nEin Einstieg ist jederzeit möglich.\nProben: montags\, 17:45-19:15 
 Uhr\nAlter: von 16 bis 26 Jahren<br /><strong>Ort:</strong><br/>Schlachtho
 f <br/>Dreyspringstr. 16\, 77933 Lahr<br /><strong>Veranstalter:</strong><
 br/>BABEL Junges Theater BAden ALsace - Lahr<br /><strong>Termin:</strong>
 <br/>Beginn: 27.04.2026\, 17:45 Uhr<br/>Ende: 27.04.2026<br /><strong>Tick
 ets: </strong><br/>Kostenlos\, Anmeldung erforderlich<br /><strong>Link:</
 strong><br/><a href='https://ortenaukultur.de/fr/evenements/detail/eveneme
 nt/id/572773-parktheaterclub/?vt=1'>Page détaillée </a>
END:VEVENT
END:VCALENDAR
