BEGIN:VCALENDAR
VERSION:2.0
PRODID:-//ortenaukultur.de//NONSGML kigkonsult.se iCalcreator 2.41.92//
CALSCALE:GREGORIAN
METHOD:PUBLISH
UID:33613236-3732-4962-b830-646433323232
X-WR-TIMEZONE:Europe/Berlin
X-LIC-LOCATION:Europe/Berlin
BEGIN:VEVENT
UID:578106-kulturportal@ortenaukultur.de
DTSTAMP:20260421T211211Z
DESCRIPTION:Kurzbeschreibung:\n Günter A. Buchwald begleitet live musikalis
 ch die filmischen Meisterwerke Safety Last! / Ausgerechnet Wolkenkratzer! 
 und Laurel und Hardy - Liberty.\n Ort:\n Stiftsschaffneikeller\n Friedrich
 straße 7\, 77933 Lahr\n Veranstalter:\n KULTURKREIS LAHR e.V.\n Termin:\n 
 Beginn: 12.06.2026\, 20:00 Uhr\n Ende: 12.06.2026\n Tickets:\n Vorverkauf 
 15\, - / 12\, - € (Schüler und Studenten)\n Abendkasse 18\, - / 15\, - € (
 Schüler und Studenten)\n Link:\n Page détaillée
DTSTART;TZID=Europe/Berlin:20260612T200000
DTEND;TZID=Europe/Berlin:20260612T230000
LOCATION:Stiftsschaffneikeller\, Friedrichstraße 7\, 77933 Lahr
SUMMARY:Günter A. Buchwald - Slapstick-Helden \, Stiftsschaffneikeller
X-ALT-DESC;FMTTYPE=text/html:<strong>Kurzbeschreibung:</strong><br/>Günter 
 A. Buchwald begleitet live musikalisch die filmischen Meisterwerke Safety 
 Last! / Ausgerechnet Wolkenkratzer! und Laurel und Hardy - Liberty.<br /><
 strong>Ort:</strong><br/>Stiftsschaffneikeller<br/>Friedrichstraße 7\, 779
 33 Lahr<br /><strong>Veranstalter:</strong><br/>KULTURKREIS LAHR e.V.<br /
 ><strong>Termin:</strong><br/>Beginn: 12.06.2026\, 20:00 Uhr<br/>Ende: 12.
 06.2026<br /><strong>Tickets: </strong><br/>Vorverkauf 15\, - / 12\, - € (
 Schüler und Studenten)<br />\nAbendkasse 18\, - / 15\, - € (Schüler und St
 udenten)<br /><strong>Link:</strong><br/><a href='https://ortenaukultur.de
 /fr/evenements/detail/evenement/id/578106-guenter-a-buchwald-slapstick-hel
 den/?vt=1'>Page détaillée </a>
END:VEVENT
END:VCALENDAR
