BEGIN:VCALENDAR
VERSION:2.0
PRODID:-//ortenaukultur.de//NONSGML kigkonsult.se iCalcreator 2.41.92//
CALSCALE:GREGORIAN
METHOD:PUBLISH
UID:32346630-3366-4136-b238-356136663139
X-WR-TIMEZONE:Europe/Berlin
X-LIC-LOCATION:Europe/Berlin
BEGIN:VEVENT
UID:578113-kulturportal@ortenaukultur.de
DTSTAMP:20260422T040456Z
DESCRIPTION:Kurzbeschreibung:\n Der Comedian Sebastian Lehmann gibt auch 20
 26 wieder ein Gastspiel in der Reithalle Offenburg.\n Ort:\n Reithalle im 
 Kulturforum\n Moltkestraße 31\, 77654 Offenburg\n Veranstalter:\n Kulturbü
 ro Offenburg\n Termin:\n Beginn: 23.10.2026\, 20:00 Uhr\n Ende: 23.10.2026
 \n Tickets:\n Achat de billets\n https://ortenaukultur.reservix.de/p/reser
 vix/event/2416438\n 1. Kategorie:\n jusqu'à 25\,20 € + Réduction\n *Toute 
 taxe comprise\n \n Link:\n Page détaillée
DTSTART;TZID=Europe/Berlin:20261023T200000
DTEND;TZID=Europe/Berlin:20261023T230000
LOCATION:Reithalle im Kulturforum\, Moltkestraße 31\, 77654 Offenburg
SUMMARY:Sebastian Lehmann\, Reithalle im Kulturforum
X-ALT-DESC;FMTTYPE=text/html:<strong>Kurzbeschreibung:</strong><br/>Der Com
 edian Sebastian Lehmann gibt auch 2026 wieder ein Gastspiel in der Reithal
 le Offenburg.<br /><strong>Ort:</strong><br/>Reithalle im Kulturforum<br/>
 Moltkestraße 31\, 77654 Offenburg<br /><strong>Veranstalter:</strong><br/>
 Kulturbüro Offenburg<br /><strong>Termin:</strong><br/>Beginn: 23.10.2026\
 , 20:00 Uhr<br/>Ende: 23.10.2026<br /><strong>Tickets: </strong><br/><a re
 l='asdf' href='https://ortenaukultur.de/fr/evenements/theatre/detail/bille
 ts/id/578113-sebastian-lehmann/?follow=https%253A%252F%252Fortenaukultur.r
 eservix.de%252Fp%252Freservix%252Fevent%252F2416438' target='_blank' title
 ='' id='ticketlink'>Achat de billets</a><br/>https://ortenaukultur.reservi
 x.de/p/reservix/event/2416438<br/><b>1. Kategorie: </b><br />jusqu&#039\;à
  25\,20 &euro\;&nbsp\; + Réduction<br />*Toute taxe comprise<br /><br /><s
 trong>Link:</strong><br/><a href='https://ortenaukultur.de/fr/evenements/d
 etail/evenement/id/578113-sebastian-lehmann/?vt=1'>Page détaillée </a>
END:VEVENT
END:VCALENDAR
