BEGIN:VCALENDAR
VERSION:2.0
PRODID:-//ortenaukultur.de//NONSGML kigkonsult.se iCalcreator 2.41.92//
CALSCALE:GREGORIAN
METHOD:PUBLISH
UID:35656539-3830-4235-b364-333961363462
X-WR-TIMEZONE:Europe/Berlin
X-LIC-LOCATION:Europe/Berlin
BEGIN:VEVENT
UID:581578-kulturportal@ortenaukultur.de
DTSTAMP:20260422T022850Z
DESCRIPTION:Kurzbeschreibung:\n Eine Geschichte von Jürgen von Bülow über L
 ebenslust\, List und Leidenschaft - mitten im Schwarzwald. Inszeniert von 
 der Burgbühne Oberkirch.\n Ort:\n im Garten des 'freche hus'\n Apothekerga
 sse 7\, 77704 Oberkirch\n Veranstalter:\n Burgbühne Oberkirch\n Termin:\n 
 Beginn: 17.07.2026\, 20:00 Uhr\n Ende: 17.07.2026\n Tickets:\n Achat de bi
 llets\n https://ortenaukultur.reservix.de/p/reservix/event/2523774\n Preis
 e:\n jusqu'à 16\,00 € + Réduction\n *Toute taxe comprise\n \n Link:\n Page
  détaillée
DTSTART;TZID=Europe/Berlin:20260717T200000
DTEND;TZID=Europe/Berlin:20260717T230000
LOCATION:im Garten des 'freche hus'\, Apothekergasse 7\, 77704 Oberkirch
SUMMARY:Annas Herzstück (Freilichttheater)\, im Garten des 'freche hus'
X-ALT-DESC;FMTTYPE=text/html:<strong>Kurzbeschreibung:</strong><br/>Eine Ge
 schichte von Jürgen von Bülow über Lebenslust\, List und Leidenschaft - mi
 tten im Schwarzwald. Inszeniert von der Burgbühne Oberkirch.<br /><strong>
 Ort:</strong><br/>im Garten des 'freche hus'<br/>Apothekergasse 7\, 77704 
 Oberkirch<br /><strong>Veranstalter:</strong><br/>Burgbühne Oberkirch<br /
 ><strong>Termin:</strong><br/>Beginn: 17.07.2026\, 20:00 Uhr<br/>Ende: 17.
 07.2026<br /><strong>Tickets: </strong><br/><a rel='asdf' href='https://or
 tenaukultur.de/fr/evenements/theatre/detail/billets/id/581578-annas-herzst
 ueck-freilichttheater/?follow=https%253A%252F%252Fortenaukultur.reservix.d
 e%252Fp%252Freservix%252Fevent%252F2523774' target='_blank' title='' id='t
 icketlink'>Achat de billets</a><br/>https://ortenaukultur.reservix.de/p/re
 servix/event/2523774<br/><b>Preise: </b><br />jusqu&#039\;à 16\,00 &euro\;
 &nbsp\; + Réduction<br />*Toute taxe comprise<br /><br /><strong>Link:</st
 rong><br/><a href='https://ortenaukultur.de/fr/evenements/detail/evenement
 /id/581578-annas-herzstueck-freilichttheater/?vt=1'>Page détaillée </a>
END:VEVENT
END:VCALENDAR
