BEGIN:VCALENDAR
VERSION:2.0
PRODID:-//ortenaukultur.de//NONSGML kigkonsult.se iCalcreator 2.41.92//
CALSCALE:GREGORIAN
METHOD:PUBLISH
UID:33363238-3862-4765-a665-346661313833
X-WR-TIMEZONE:Europe/Berlin
X-LIC-LOCATION:Europe/Berlin
BEGIN:VEVENT
UID:583004-kulturportal@ortenaukultur.de
DTSTAMP:20260422T231141Z
DESCRIPTION:Kurzbeschreibung:\n an der Kleintierzuchtanlage mit vielen Gehe
 ge für Kleintiere im Stricker\n Ort:\n Zuchtanlage Kleintierzuchtverein\n 
 Strickerweg\, 77716 Haslach\n Veranstalter:\n Kleintierzuchtverein C70\n T
 ermin:\n Beginn: 04.10.2026\, 10:00 Uhr\n Ende: 04.10.2026\n Link:\n Page 
 détaillée
DTSTART;TZID=Europe/Berlin:20261004T100000
DTEND;TZID=Europe/Berlin:20261004T130000
LOCATION:Zuchtanlage Kleintierzuchtverein\, Strickerweg\, 77716 Haslach
SUMMARY:Jungtierschau in der Zuchtanlage\, Zuchtanlage Kleintierzuchtverein
X-ALT-DESC;FMTTYPE=text/html:<strong>Kurzbeschreibung:</strong><br/>an der 
 Kleintierzuchtanlage mit vielen Gehege für Kleintiere im Stricker<br /><st
 rong>Ort:</strong><br/>Zuchtanlage Kleintierzuchtverein<br/>Strickerweg\, 
 77716 Haslach<br /><strong>Veranstalter:</strong><br/>Kleintierzuchtverein
  C70<br /><strong>Termin:</strong><br/>Beginn: 04.10.2026\, 10:00 Uhr<br/>
 Ende: 04.10.2026<br /><strong>Link:</strong><br/><a href='https://ortenauk
 ultur.de/fr/evenements/detail/evenement/id/583004-jungtierschau-in-der-zuc
 htanlage/?vt=1'>Page détaillée </a>
END:VEVENT
END:VCALENDAR
