BEGIN:VCALENDAR
VERSION:2.0
PRODID:-//ortenaukultur.de//NONSGML kigkonsult.se iCalcreator 2.41.92//
CALSCALE:GREGORIAN
METHOD:PUBLISH
UID:62303636-6466-4738-b636-623062353264
X-WR-TIMEZONE:Europe/Berlin
X-LIC-LOCATION:Europe/Berlin
BEGIN:VEVENT
UID:584999-kulturportal@ortenaukultur.de
DTSTAMP:20260422T002613Z
DESCRIPTION:Kurzbeschreibung:\n Nouveau Cirque mit der brasilianisch-franzö
 sischen Künstlerin Alice Rende. Eine Kooperation mit dem Maillon Straßburg
 .\n Ort:\n Reithalle im Kulturforum\n Moltkestraße 31\, 77654 Offenburg\n 
 Veranstalter:\n Kulturbüro Offenburg\n Termin:\n Beginn: 21.05.2026\, 20:0
 0 Uhr\n Ende: 21.05.2026\n Tickets:\n Achat de billets\n https://ortenauku
 ltur.reservix.de/p/reservix/event/2498093\n 1. Kategorie:\n jusqu'à 28\,50
  € + Réduction\n *Toute taxe comprise\n \n Link:\n Page détaillée
DTSTART;TZID=Europe/Berlin:20260521T200000
DTEND;TZID=Europe/Berlin:20260521T230000
LOCATION:Reithalle im Kulturforum\, Moltkestraße 31\, 77654 Offenburg
SUMMARY:FORA\, Reithalle im Kulturforum
X-ALT-DESC;FMTTYPE=text/html:<strong>Kurzbeschreibung:</strong><br/>Nouveau
  Cirque mit der brasilianisch-französischen Künstlerin Alice Rende. Eine K
 ooperation mit dem Maillon Straßburg.<br /><strong>Ort:</strong><br/>Reith
 alle im Kulturforum<br/>Moltkestraße 31\, 77654 Offenburg<br /><strong>Ver
 anstalter:</strong><br/>Kulturbüro Offenburg<br /><strong>Termin:</strong>
 <br/>Beginn: 21.05.2026\, 20:00 Uhr<br/>Ende: 21.05.2026<br /><strong>Tick
 ets: </strong><br/><a rel='asdf' href='https://ortenaukultur.de/fr/eveneme
 nts/theatre/detail/billets/id/584999-fora/?follow=https%253A%252F%252Forte
 naukultur.reservix.de%252Fp%252Freservix%252Fevent%252F2498093' target='_b
 lank' title='' id='ticketlink'>Achat de billets</a><br/>https://ortenaukul
 tur.reservix.de/p/reservix/event/2498093<br/><b>1. Kategorie: </b><br />ju
 squ&#039\;à 28\,50 &euro\;&nbsp\; + Réduction<br />*Toute taxe comprise<br
  /><br /><strong>Link:</strong><br/><a href='https://ortenaukultur.de/fr/e
 venements/detail/evenement/id/584999-fora/?vt=1'>Page détaillée </a>
END:VEVENT
END:VCALENDAR
