BEGIN:VCALENDAR
VERSION:2.0
PRODID:-//ortenaukultur.de//NONSGML kigkonsult.se iCalcreator 2.41.92//
CALSCALE:GREGORIAN
METHOD:PUBLISH
UID:34313231-3935-4162-a134-626531393536
X-WR-TIMEZONE:Europe/Berlin
X-LIC-LOCATION:Europe/Berlin
BEGIN:VEVENT
UID:585005-kulturportal@ortenaukultur.de
DTSTAMP:20260421T230504Z
DESCRIPTION:Kurzbeschreibung:\n Poetry-Slam: Live\, ehrlich\, vielfältig - 
 präsentiert vom Slam-Master Marius Loy.\n Ort:\n Freche Hus\n Apothekergas
 se 7\, 77704 Oberkirch\n Veranstalter:\n Stadt Oberkirch\n Termin:\n Begin
 n: 23.10.2026\, 20:00 Uhr\n Ende: 23.10.2026\n Tickets:\n Achat de billets
 \n https://ortenaukultur.reservix.de/p/reservix/event/2498462\n Preise:\n 
 jusqu'à 14\,00 € + Réduction\n *Toute taxe comprise\n \n Link:\n Page déta
 illée
DTSTART;TZID=Europe/Berlin:20261023T200000
DTEND;TZID=Europe/Berlin:20261023T230000
LOCATION:Freche Hus\, Apothekergasse 7\, 77704 Oberkirch
SUMMARY:Wettkampf der Worte - Heimat-Edition//Poetry Slam\, Freche Hus
X-ALT-DESC;FMTTYPE=text/html:<strong>Kurzbeschreibung:</strong><br/>Poetry-
 Slam: Live\, ehrlich\, vielfältig - präsentiert vom Slam-Master Marius Loy
 .<br /><strong>Ort:</strong><br/>Freche Hus<br/>Apothekergasse 7\, 77704 O
 berkirch<br /><strong>Veranstalter:</strong><br/>Stadt Oberkirch<br /><str
 ong>Termin:</strong><br/>Beginn: 23.10.2026\, 20:00 Uhr<br/>Ende: 23.10.20
 26<br /><strong>Tickets: </strong><br/><a rel='asdf' href='https://ortenau
 kultur.de/fr/evenements/theatre/detail/billets/id/585005-wettkampf-der-wor
 te-heimat-edition-poetry-slam/?follow=https%253A%252F%252Fortenaukultur.re
 servix.de%252Fp%252Freservix%252Fevent%252F2498462' target='_blank' title=
 '' id='ticketlink'>Achat de billets</a><br/>https://ortenaukultur.reservix
 .de/p/reservix/event/2498462<br/><b>Preise: </b><br />jusqu&#039\;à 14\,00
  &euro\;&nbsp\; + Réduction<br />*Toute taxe comprise<br /><br /><strong>L
 ink:</strong><br/><a href='https://ortenaukultur.de/fr/evenements/detail/e
 venement/id/585005-wettkampf-der-worte-heimat-edition-poetry-slam/?vt=1'>P
 age détaillée </a>
END:VEVENT
END:VCALENDAR
