BEGIN:VCALENDAR
VERSION:2.0
PRODID:-//ortenaukultur.de//NONSGML kigkonsult.se iCalcreator 2.41.92//
CALSCALE:GREGORIAN
METHOD:PUBLISH
UID:38663935-3664-4133-b064-346236323439
X-WR-TIMEZONE:Europe/Berlin
X-LIC-LOCATION:Europe/Berlin
BEGIN:VEVENT
UID:585145-kulturportal@ortenaukultur.de
DTSTAMP:20260421T212352Z
DESCRIPTION:Kurzbeschreibung:\n Kultursommer Comedy in der Stadthalle am No
 llen mit KLAUS BIRK und ANDREAS MÜLLER\n Ort:\n Stadthalle am Nollen\n Nol
 lenstr. 15\, 77723 Gengenbach\n Veranstalter:\n Gengenbach Kultur- und Tou
 rismus GmbH\n Termin:\n Beginn: 10.06.2026\, 20:00 Uhr\n Ende: 10.06.2026
 \n Tickets:\n Achat de billets\n https://ortenaukultur.reservix.de/p/reser
 vix/event/2530843\n Kat. A:\n jusqu'à 32\,90 € + Réduction\n Kat. B:\n jus
 qu'à 30\,70 € + Réduction\n *Toute taxe comprise\n \n Link:\n Page détaill
 ée
DTSTART;TZID=Europe/Berlin:20260610T200000
DTEND;TZID=Europe/Berlin:20260610T230000
LOCATION:Stadthalle am Nollen\, Nollenstr. 15\, 77723 Gengenbach
SUMMARY:HomeLändZack!\, Stadthalle am Nollen
X-ALT-DESC;FMTTYPE=text/html:<strong>Kurzbeschreibung:</strong><br/>Kulturs
 ommer Comedy in der Stadthalle am Nollen mit KLAUS BIRK und ANDREAS MÜLLER
 <br /><strong>Ort:</strong><br/>Stadthalle am Nollen<br/>Nollenstr. 15\, 7
 7723 Gengenbach<br /><strong>Veranstalter:</strong><br/>Gengenbach Kultur-
  und Tourismus GmbH<br /><strong>Termin:</strong><br/>Beginn: 10.06.2026\,
  20:00 Uhr<br/>Ende: 10.06.2026<br /><strong>Tickets: </strong><br/><a rel
 ='asdf' href='https://ortenaukultur.de/fr/evenements/theatre/detail/billet
 s/id/585145-homelaendzack/?follow=https%253A%252F%252Fortenaukultur.reserv
 ix.de%252Fp%252Freservix%252Fevent%252F2530843' target='_blank' title='' i
 d='ticketlink'>Achat de billets</a><br/>https://ortenaukultur.reservix.de/
 p/reservix/event/2530843<br/><b>Kat. A: </b><br />jusqu&#039\;à 32\,90 &eu
 ro\;&nbsp\; + Réduction<br /><b>Kat. B: </b><br />jusqu&#039\;à 30\,70 &eu
 ro\;&nbsp\; + Réduction<br />*Toute taxe comprise<br /><br /><strong>Link:
 </strong><br/><a href='https://ortenaukultur.de/fr/evenements/detail/evene
 ment/id/585145-homelaendzack/?vt=1'>Page détaillée </a>
END:VEVENT
END:VCALENDAR
