BEGIN:VCALENDAR
VERSION:2.0
PRODID:-//ortenaukultur.de//NONSGML kigkonsult.se iCalcreator 2.41.92//
CALSCALE:GREGORIAN
METHOD:PUBLISH
UID:39386535-6435-4365-b731-353637323636
X-WR-TIMEZONE:Europe/Berlin
X-LIC-LOCATION:Europe/Berlin
BEGIN:VEVENT
UID:585173-kulturportal@ortenaukultur.de
DTSTAMP:20260422T092322Z
DESCRIPTION:Kurzbeschreibung:\n Vortrag mit Lichtbildern von Prof. Dr. Wern
 er Mezger\, Universität Freiburg i. Br..\n Ort:\n Gemeindehaus St. Michael
 \n Kirchplatz\, 77704 Oberkirch\n Veranstalter:\n Stadt Oberkirch\n Termin
 :\n Beginn: 05.11.2026\, 19:00 Uhr\n Ende: 05.11.2026\n Tickets:\n Achat d
 e billets\n https://ortenaukultur.reservix.de/p/reservix/event/2499103\n P
 reise:\n jusqu'à 8\,00 € + Réduction\n *Toute taxe comprise\n \n Link:\n P
 age détaillée
DTSTART;TZID=Europe/Berlin:20261105T190000
DTEND;TZID=Europe/Berlin:20261105T220000
LOCATION:Gemeindehaus St. Michael\, Kirchplatz\, 77704 Oberkirch
SUMMARY:Mehr als Kitsch\, Kommerz und Kerzen? Bräuche der Advents- und Weih
 nachtszeit\, Gemeindehaus St. Michael
X-ALT-DESC;FMTTYPE=text/html:<strong>Kurzbeschreibung:</strong><br/>Vortrag
  mit Lichtbildern von Prof. Dr. Werner Mezger\, Universität Freiburg i. Br
 ..<br /><strong>Ort:</strong><br/>Gemeindehaus St. Michael<br/>Kirchplatz\
 , 77704 Oberkirch<br /><strong>Veranstalter:</strong><br/>Stadt Oberkirch<
 br /><strong>Termin:</strong><br/>Beginn: 05.11.2026\, 19:00 Uhr<br/>Ende:
  05.11.2026<br /><strong>Tickets: </strong><br/><a rel='asdf' href='https:
 //ortenaukultur.de/fr/evenements/theatre/detail/billets/id/585173-mehr-als
 -kitsch-kommerz-und-kerzen-braeuche-der-advents-und-weihnachtszeit/?follow
 =https%253A%252F%252Fortenaukultur.reservix.de%252Fp%252Freservix%252Feven
 t%252F2499103' target='_blank' title='' id='ticketlink'>Achat de billets</
 a><br/>https://ortenaukultur.reservix.de/p/reservix/event/2499103<br/><b>P
 reise: </b><br />jusqu&#039\;à 8\,00 &euro\;&nbsp\; + Réduction<br />*Tout
 e taxe comprise<br /><br /><strong>Link:</strong><br/><a href='https://ort
 enaukultur.de/fr/evenements/detail/evenement/id/585173-mehr-als-kitsch-kom
 merz-und-kerzen-braeuche-der-advents-und-weihnachtszeit/?vt=1'>Page détail
 lée </a>
END:VEVENT
END:VCALENDAR
