BEGIN:VCALENDAR
VERSION:2.0
PRODID:-//ortenaukultur.de//NONSGML kigkonsult.se iCalcreator 2.41.92//
CALSCALE:GREGORIAN
METHOD:PUBLISH
UID:37623663-3731-4463-b330-363861623236
X-WR-TIMEZONE:Europe/Berlin
X-LIC-LOCATION:Europe/Berlin
BEGIN:VEVENT
UID:588966-kulturportal@ortenaukultur.de
DTSTAMP:20260422T021205Z
DESCRIPTION:Kurzbeschreibung:\n Die Stand-Up-Comedy Reihe in der Reithalle 
 Offenburg geht in die nächste Runde !\n Ort:\n Reithalle im Kulturforum\n 
 Moltkestraße 31\, 77654 Offenburg\n Veranstalter:\n Kulturbüro Offenburg\n
  Termin:\n Beginn: 18.02.2027\, 20:00 Uhr\n Ende: 18.02.2027\n Tickets:\n 
 Achat de billets\n https://ortenaukultur.reservix.de/p/reservix/event/2516
 307\n 1. Kategorie:\n jusqu'à 25\,20 € + Réduction\n *Toute taxe comprise
 \n \n Link:\n Page détaillée
DTSTART;TZID=Europe/Berlin:20270218T200000
DTEND;TZID=Europe/Berlin:20270218T230000
LOCATION:Reithalle im Kulturforum\, Moltkestraße 31\, 77654 Offenburg
SUMMARY:Comedy Flex\, Reithalle im Kulturforum
X-ALT-DESC;FMTTYPE=text/html:<strong>Kurzbeschreibung:</strong><br/>Die Sta
 nd-Up-Comedy Reihe in der Reithalle Offenburg geht in die nächste Runde !<
 br /><strong>Ort:</strong><br/>Reithalle im Kulturforum<br/>Moltkestraße 3
 1\, 77654 Offenburg<br /><strong>Veranstalter:</strong><br/>Kulturbüro Off
 enburg<br /><strong>Termin:</strong><br/>Beginn: 18.02.2027\, 20:00 Uhr<br
 />Ende: 18.02.2027<br /><strong>Tickets: </strong><br/><a rel='asdf' href=
 'https://ortenaukultur.de/fr/evenements/theatre/detail/billets/id/588966-c
 omedy-flex/?follow=https%253A%252F%252Fortenaukultur.reservix.de%252Fp%252
 Freservix%252Fevent%252F2516307' target='_blank' title='' id='ticketlink'>
 Achat de billets</a><br/>https://ortenaukultur.reservix.de/p/reservix/even
 t/2516307<br/><b>1. Kategorie: </b><br />jusqu&#039\;à 25\,20 &euro\;&nbsp
 \; + Réduction<br />*Toute taxe comprise<br /><br /><strong>Link:</strong>
 <br/><a href='https://ortenaukultur.de/fr/evenements/detail/evenement/id/5
 88966-comedy-flex/?vt=1'>Page détaillée </a>
END:VEVENT
END:VCALENDAR
