BEGIN:VCALENDAR
VERSION:2.0
PRODID:-//ortenaukultur.de//NONSGML kigkonsult.se iCalcreator 2.41.92//
CALSCALE:GREGORIAN
METHOD:PUBLISH
UID:61323565-6334-4330-b635-396265303663
X-WR-TIMEZONE:Europe/Berlin
X-LIC-LOCATION:Europe/Berlin
BEGIN:VEVENT
UID:588968-kulturportal@ortenaukultur.de
DTSTAMP:20260422T084943Z
DESCRIPTION:Kurzbeschreibung:\n Comedy Flex geht in unserer Saision 2026/20
 27 für drei weitere Vorstellungen in die nächste Runde\n Ort:\n Reithalle 
 im Kulturforum\n Moltkestraße 31\, 77654 Offenburg\n Veranstalter:\n Kultu
 rbüro Offenburg\n Termin:\n Beginn: 19.11.2026\, 20:00 Uhr\n Ende: 19.11.2
 026\n Tickets:\n Achat de billets\n https://ortenaukultur.reservix.de/p/re
 servix/event/2516306\n 1. Kategorie:\n jusqu'à 25\,20 € + Réduction\n *Tou
 te taxe comprise\n \n Link:\n Page détaillée
DTSTART;TZID=Europe/Berlin:20261119T200000
DTEND;TZID=Europe/Berlin:20261119T230000
LOCATION:Reithalle im Kulturforum\, Moltkestraße 31\, 77654 Offenburg
SUMMARY:Comedy Flex\, Reithalle im Kulturforum
X-ALT-DESC;FMTTYPE=text/html:<strong>Kurzbeschreibung:</strong><br/>Comedy 
 Flex geht in unserer Saision 2026/2027 für drei weitere Vorstellungen in d
 ie nächste Runde<br /><strong>Ort:</strong><br/>Reithalle im Kulturforum<b
 r/>Moltkestraße 31\, 77654 Offenburg<br /><strong>Veranstalter:</strong><b
 r/>Kulturbüro Offenburg<br /><strong>Termin:</strong><br/>Beginn: 19.11.20
 26\, 20:00 Uhr<br/>Ende: 19.11.2026<br /><strong>Tickets: </strong><br/><a
  rel='asdf' href='https://ortenaukultur.de/fr/evenements/theatre/detail/bi
 llets/id/588968-comedy-flex/?follow=https%253A%252F%252Fortenaukultur.rese
 rvix.de%252Fp%252Freservix%252Fevent%252F2516306' target='_blank' title=''
  id='ticketlink'>Achat de billets</a><br/>https://ortenaukultur.reservix.d
 e/p/reservix/event/2516306<br/><b>1. Kategorie: </b><br />jusqu&#039\;à 25
 \,20 &euro\;&nbsp\; + Réduction<br />*Toute taxe comprise<br /><br /><stro
 ng>Link:</strong><br/><a href='https://ortenaukultur.de/fr/evenements/deta
 il/evenement/id/588968-comedy-flex/?vt=1'>Page détaillée </a>
END:VEVENT
END:VCALENDAR
