BEGIN:VCALENDAR
VERSION:2.0
PRODID:-//ortenaukultur.de//NONSGML kigkonsult.se iCalcreator 2.41.92//
CALSCALE:GREGORIAN
METHOD:PUBLISH
UID:37323339-3733-4561-b631-343230643935
X-WR-TIMEZONE:Europe/Berlin
X-LIC-LOCATION:Europe/Berlin
BEGIN:VEVENT
UID:589078-kulturportal@ortenaukultur.de
DTSTAMP:20260421T230524Z
DESCRIPTION:Kurzbeschreibung:\n Das mit dem Deutschen Kleinkunstpreis dekor
 ierte Duo Blözinger\, nimmt seine Besucher auf eine Reise zu ihrem KopfKin
 oKabarett mit.\n Ort:\n Reithalle im Kulturforum\n Moltkestraße 31\, 77654
  Offenburg\n Veranstalter:\n Kulturbüro Offenburg\n Termin:\n Beginn: 15.1
 0.2026\, 20:00 Uhr\n Ende: 15.10.2026\n Tickets:\n Achat de billets\n http
 s://ortenaukultur.reservix.de/p/reservix/event/2426112\n 1. Kategorie:\n j
 usqu'à 23\,00 € + Réduction\n *Toute taxe comprise\n \n Link:\n Page détai
 llée
DTSTART;TZID=Europe/Berlin:20261015T200000
DTEND;TZID=Europe/Berlin:20261015T230000
LOCATION:Reithalle im Kulturforum\, Moltkestraße 31\, 77654 Offenburg
SUMMARY:Blözinger - Das Ziel ist im Weg \, Reithalle im Kulturforum
X-ALT-DESC;FMTTYPE=text/html:<strong>Kurzbeschreibung:</strong><br/>Das mit
  dem Deutschen Kleinkunstpreis dekorierte Duo Blözinger\, nimmt seine Besu
 cher auf eine Reise zu ihrem KopfKinoKabarett mit.\n<br /><strong>Ort:</st
 rong><br/>Reithalle im Kulturforum<br/>Moltkestraße 31\, 77654 Offenburg<b
 r /><strong>Veranstalter:</strong><br/>Kulturbüro Offenburg<br /><strong>T
 ermin:</strong><br/>Beginn: 15.10.2026\, 20:00 Uhr<br/>Ende: 15.10.2026<br
  /><strong>Tickets: </strong><br/><a rel='asdf' href='https://ortenaukultu
 r.de/fr/evenements/theatre/detail/billets/id/589078-bloezinger-das-ziel-is
 t-im-weg/?follow=https%253A%252F%252Fortenaukultur.reservix.de%252Fp%252Fr
 eservix%252Fevent%252F2426112' target='_blank' title='' id='ticketlink'>Ac
 hat de billets</a><br/>https://ortenaukultur.reservix.de/p/reservix/event/
 2426112<br/><b>1. Kategorie: </b><br />jusqu&#039\;à 23\,00 &euro\;&nbsp\;
  + Réduction<br />*Toute taxe comprise<br /><br /><strong>Link:</strong><b
 r/><a href='https://ortenaukultur.de/fr/evenements/detail/evenement/id/589
 078-bloezinger-das-ziel-ist-im-weg/?vt=1'>Page détaillée </a>
END:VEVENT
END:VCALENDAR
