BEGIN:VCALENDAR
VERSION:2.0
PRODID:-//ortenaukultur.de//NONSGML kigkonsult.se iCalcreator 2.41.92//
CALSCALE:GREGORIAN
METHOD:PUBLISH
UID:37386336-6162-4436-a664-303536383534
X-WR-TIMEZONE:Europe/Berlin
X-LIC-LOCATION:Europe/Berlin
BEGIN:VEVENT
UID:589105-kulturportal@ortenaukultur.de
DTSTAMP:20260422T235316Z
DESCRIPTION:Kurzbeschreibung:\n Florian Schroeder - Live-Tour „Schluss jetz
 t! Der satirische Jahresrückblick“\, in der Reihalle Offenburg\n Ort:\n Re
 ithalle im Kulturforum\n Moltkestraße 31\, 77654 Offenburg\n Veranstalter:
 \n Kulturbüro Offenburg\n Termin:\n Beginn: 20.12.2026\, 19:00 Uhr\n Ende:
  20.12.2026\n Tickets:\n Achat de billets\n https://ortenaukultur.reservix
 .de/p/reservix/event/2482541\n 1. Kategorie:\n jusqu'à 25\,20 € + Réductio
 n\n *Toute taxe comprise\n \n Link:\n Page détaillée
DTSTART;TZID=Europe/Berlin:20261220T190000
DTEND;TZID=Europe/Berlin:20261220T220000
LOCATION:Reithalle im Kulturforum\, Moltkestraße 31\, 77654 Offenburg
SUMMARY:Florian Schroeder\, Reithalle im Kulturforum
X-ALT-DESC;FMTTYPE=text/html:<strong>Kurzbeschreibung:</strong><br/>Florian
  Schroeder - Live-Tour „Schluss jetzt! Der satirische Jahresrückblick“\, i
 n der Reihalle Offenburg<br /><strong>Ort:</strong><br/>Reithalle im Kultu
 rforum<br/>Moltkestraße 31\, 77654 Offenburg<br /><strong>Veranstalter:</s
 trong><br/>Kulturbüro Offenburg<br /><strong>Termin:</strong><br/>Beginn: 
 20.12.2026\, 19:00 Uhr<br/>Ende: 20.12.2026<br /><strong>Tickets: </strong
 ><br/><a rel='asdf' href='https://ortenaukultur.de/fr/evenements/theatre/d
 etail/billets/id/589105-florian-schroeder/?follow=https%253A%252F%252Forte
 naukultur.reservix.de%252Fp%252Freservix%252Fevent%252F2482541' target='_b
 lank' title='' id='ticketlink'>Achat de billets</a><br/>https://ortenaukul
 tur.reservix.de/p/reservix/event/2482541<br/><b>1. Kategorie: </b><br />ju
 squ&#039\;à 25\,20 &euro\;&nbsp\; + Réduction<br />*Toute taxe comprise<br
  /><br /><strong>Link:</strong><br/><a href='https://ortenaukultur.de/fr/e
 venements/detail/evenement/id/589105-florian-schroeder/?vt=1'>Page détaill
 ée </a>
END:VEVENT
END:VCALENDAR
