BEGIN:VCALENDAR
VERSION:2.0
PRODID:-//ortenaukultur.de//NONSGML kigkonsult.se iCalcreator 2.41.92//
CALSCALE:GREGORIAN
METHOD:PUBLISH
UID:66346536-3366-4330-a538-313961396365
X-WR-TIMEZONE:Europe/Berlin
X-LIC-LOCATION:Europe/Berlin
BEGIN:VEVENT
UID:590114-kulturportal@ortenaukultur.de
DTSTAMP:20260422T010124Z
DESCRIPTION:Kurzbeschreibung:\n Auch dieses Jahr findet das traditionelle F
 euerwehrfest der Freiwilligen Feuerwehr Abteilung Kaltbrunn statt.\n Ort:
 \n Feuerwehrgerätehaus Abteilung Kaltbrunn\n Vortal 132\, 77773 Schenkenze
 ll\n Veranstalter:\n Feuerwehr Abteilung Kaltbrunn\n Termin:\n Beginn: 23.
 05.2026\, 17:00 Uhr\n Ende: 23.05.2026\n Link:\n Page détaillée
DTSTART;TZID=Europe/Berlin:20260523T170000
DTEND;TZID=Europe/Berlin:20260523T200000
LOCATION:Feuerwehrgerätehaus Abteilung Kaltbrunn\, Vortal 132\, 77773 Schen
 kenzell
SUMMARY:Feuerwehrfest in Kaltbrunn\, Feuerwehrgerätehaus Abteilung Kaltbrun
 n
X-ALT-DESC;FMTTYPE=text/html:<strong>Kurzbeschreibung:</strong><br/>Auch di
 eses Jahr findet das traditionelle Feuerwehrfest der Freiwilligen Feuerweh
 r Abteilung Kaltbrunn statt. <br /><strong>Ort:</strong><br/>Feuerwehrgerä
 tehaus Abteilung Kaltbrunn<br/>Vortal 132\, 77773 Schenkenzell<br /><stron
 g>Veranstalter:</strong><br/>Feuerwehr Abteilung Kaltbrunn<br /><strong>Te
 rmin:</strong><br/>Beginn: 23.05.2026\, 17:00 Uhr<br/>Ende: 23.05.2026<br 
 /><strong>Link:</strong><br/><a href='https://ortenaukultur.de/fr/evenemen
 ts/detail/evenement/id/590114-feuerwehrfest-in-kaltbrunn/?vt=1'>Page détai
 llée </a>
END:VEVENT
END:VCALENDAR
