BEGIN:VCALENDAR
VERSION:2.0
PRODID:-//ortenaukultur.de//NONSGML kigkonsult.se iCalcreator 2.41.92//
CALSCALE:GREGORIAN
METHOD:PUBLISH
UID:35636635-6136-4763-b162-316534623963
X-WR-TIMEZONE:Europe/Berlin
X-LIC-LOCATION:Europe/Berlin
BEGIN:VEVENT
UID:590642-kulturportal@ortenaukultur.de
DTSTAMP:20260421T230454Z
DESCRIPTION:Kurzbeschreibung:\n Land in Sicht - Kabarett auf der Wanderbühn
 e beim Spinnerhof in Lautenbach\n Ort:\n Spinnerhof\, Lautenbach\n Veranst
 alter:\n Fidelius on Tour 2026\n Termin:\n Beginn: 26.06.2026\, 19:30 Uhr
 \n Ende: 26.06.2026\n Link:\n Page détaillée
DTSTART;TZID=Europe/Berlin:20260626T193000
DTEND;TZID=Europe/Berlin:20260626T223000
LOCATION:Spinnerhof\, Lautenbach
SUMMARY:Fidelius on Tour 2026\, Spinnerhof
X-ALT-DESC;FMTTYPE=text/html:<strong>Kurzbeschreibung:</strong><br/>Land in
  Sicht - Kabarett auf der Wanderbühne beim Spinnerhof in Lautenbach<br /><
 strong>Ort:</strong><br/>Spinnerhof\, Lautenbach<br /><strong>Veranstalter
 :</strong><br/>Fidelius on Tour 2026<br /><strong>Termin:</strong><br/>Beg
 inn: 26.06.2026\, 19:30 Uhr<br/>Ende: 26.06.2026<br /><strong>Link:</stron
 g><br/><a href='https://ortenaukultur.de/fr/evenements/detail/evenement/id
 /590642-fidelius-on-tour-2026/?vt=1'>Page détaillée </a>
END:VEVENT
END:VCALENDAR
