BEGIN:VCALENDAR
VERSION:2.0
PRODID:-//ortenaukultur.de//NONSGML kigkonsult.se iCalcreator 2.41.92//
CALSCALE:GREGORIAN
METHOD:PUBLISH
UID:63626133-3264-4863-b939-373933623562
X-WR-TIMEZONE:Europe/Berlin
X-LIC-LOCATION:Europe/Berlin
BEGIN:VEVENT
UID:591563-kulturportal@ortenaukultur.de
DTSTAMP:20260422T055723Z
DESCRIPTION:Kurzbeschreibung:\n Vier Poet*innen. Sieben Minuten. Eigene Tex
 te. Moderation: Ansgar Hufnagel\n Ort:\n Simplicissimus-Haus\n Hauptstraße
  59\, 77871 Renchen\n Veranstalter:\n Stadt Renchen\n Termin:\n Beginn: 04
 .11.2026\, 19:00 Uhr\n Ende: 04.11.2026\n Tickets:\n \n https://www.reserv
 ix.de/p/reservix/event/2524138\n VVK 10 €\, AK 12 €\n Link:\n Page détaill
 ée
DTSTART;TZID=Europe/Berlin:20261104T190000
DTEND;TZID=Europe/Berlin:20261104T220000
LOCATION:Simplicissimus-Haus \, Hauptstraße 59\, 77871 Renchen
SUMMARY:Poetry Slam 4er Battle\, Simplicissimus-Haus
X-ALT-DESC;FMTTYPE=text/html:<strong>Kurzbeschreibung:</strong><br/>Vier Po
 et*innen. Sieben Minuten.\nEigene Texte.\nModeration: Ansgar Hufnagel<br /
 ><strong>Ort:</strong><br/>Simplicissimus-Haus <br/>Hauptstraße 59\, 77871
  Renchen<br /><strong>Veranstalter:</strong><br/>Stadt Renchen<br /><stron
 g>Termin:</strong><br/>Beginn: 04.11.2026\, 19:00 Uhr<br/>Ende: 04.11.2026
 <br /><strong>Tickets: </strong><br/><a  class='wco_cb_subtitle_link'  id=
 'ticketlink'  href='https://www.reservix.de/p/reservix/event/2524138' targ
 et='_blank' title='Öffnet externen Link in einem neuen Fenster'></a><br/>h
 ttps://www.reservix.de/p/reservix/event/2524138<br/>VVK 10 €\, AK 12 €<br 
 /><strong>Link:</strong><br/><a href='https://ortenaukultur.de/fr/evenemen
 ts/detail/evenement/id/591563-poetry-slam-4er-battle/?vt=1'>Page détaillée
  </a>
END:VEVENT
END:VCALENDAR
