BEGIN:VCALENDAR
VERSION:2.0
PRODID:-//ortenaukultur.de//NONSGML kigkonsult.se iCalcreator 2.41.92//
CALSCALE:GREGORIAN
METHOD:PUBLISH
UID:39663133-3732-4035-b664-613039346565
X-WR-TIMEZONE:Europe/Berlin
X-LIC-LOCATION:Europe/Berlin
BEGIN:VEVENT
UID:594250-kulturportal@ortenaukultur.de
DTSTAMP:20260422T021620Z
DESCRIPTION:Kurzbeschreibung:\n Fabian Lampert spielt sein Solo 'Einer dies
 er Abende' im Kulturhaus Kehl\n Ort:\n Das Kulturhaus.\n Am Läger 12\, 776
 94 Kehl\n Veranstalter:\n Kulturbüro Kehl\n Termin:\n Beginn: 12.03.2027\,
  20:00 Uhr\n Ende: 12.03.2027\n Tickets:\n Achat de billets\n https://orte
 naukultur.reservix.de/p/reservix/event/2552178\n 1. Kategorie:\n jusqu'à 1
 8\,60 € + Réduction\n *Toute taxe comprise\n \n Link:\n Page détaillée
DTSTART;TZID=Europe/Berlin:20270312T200000
DTEND;TZID=Europe/Berlin:20270312T230000
LOCATION:Das Kulturhaus.\, Am Läger 12\, 77694 Kehl
SUMMARY:Fabian Lampert - Einer dieser Abende\, Das Kulturhaus.
X-ALT-DESC;FMTTYPE=text/html:<strong>Kurzbeschreibung:</strong><br/>Fabian 
 Lampert spielt sein Solo 'Einer dieser Abende' im Kulturhaus Kehl<br /><st
 rong>Ort:</strong><br/>Das Kulturhaus.<br/>Am Läger 12\, 77694 Kehl<br /><
 strong>Veranstalter:</strong><br/>Kulturbüro Kehl<br /><strong>Termin:</st
 rong><br/>Beginn: 12.03.2027\, 20:00 Uhr<br/>Ende: 12.03.2027<br /><strong
 >Tickets: </strong><br/><a rel='asdf' href='https://ortenaukultur.de/fr/ev
 enements/theatre/detail/billets/id/594250-fabian-lampert-einer-dieser-aben
 de/?follow=https%253A%252F%252Fortenaukultur.reservix.de%252Fp%252Freservi
 x%252Fevent%252F2552178' target='_blank' title='' id='ticketlink'>Achat de
  billets</a><br/>https://ortenaukultur.reservix.de/p/reservix/event/255217
 8<br/><b>1. Kategorie: </b><br />jusqu&#039\;à 18\,60 &euro\;&nbsp\; + Réd
 uction<br />*Toute taxe comprise<br /><br /><strong>Link:</strong><br/><a 
 href='https://ortenaukultur.de/fr/evenements/detail/evenement/id/594250-fa
 bian-lampert-einer-dieser-abende/?vt=1'>Page détaillée </a>
END:VEVENT
END:VCALENDAR
